BEGIN:VCALENDAR
VERSION:2.0
PRODID:-//ChamberMaster//Event Calendar 2.0//EN
METHOD:PUBLISH
X-PUBLISHED-TTL:P3D
REFRESH-INTERVAL:P3D
CALSCALE:GREGORIAN
BEGIN:VEVENT
DTSTART:20160727T170000Z
DTEND:20160727T190000Z
X-MICROSOFT-CDO-ALLDAYEVENT:FALSE
SUMMARY:Grand Re-opening and Ribbon Cutting Ceremony!
DESCRIPTION:Join Springboard for the Arts and the Fergus Falls Chamber of Commerce on Wednesday\, July 27th for our Grand Re-Opening celebration and Ribbon Cutting Ceremony at our NEW location in the Benson Building at 201 West Lincoln in downtown Fergus Falls!\n\n\n\nWe're very proud of the space and excited about its possibilities! Please join us for a tour and refreshments\, share your ideas\, and learn some fun history about the Benson Building while you're at it.
X-ALT-DESC;FMTTYPE=text/html:Join Springboard for the Arts and the Fergus Falls Chamber of Commerce on Wednesday\, July 27th for our Grand Re-Opening celebration and Ribbon Cutting Ceremony at our NEW location in the Benson Building at 201 West Lincoln in downtown Fergus Falls!<br />\n<br />\nWe&#39\;re very proud of the space and excited about its possibilities! Please join us for a tour and refreshments\, share your ideas\, and learn some fun history about the Benson Building while you&#39\;re at it.
LOCATION:201 West Lincoln Ave Fergus Falls\, MN 56537
UID:e.314.32951
SEQUENCE:3
DTSTAMP:20260425T112346Z
URL:https://business.fergusfalls.com/events/details/grand-re-opening-and-ribbon-cutting-ceremony-07-27-2016-32951
END:VEVENT

END:VCALENDAR
