BEGIN:VCALENDAR
VERSION:2.0
PRODID:-//ChamberMaster//Event Calendar 2.0//EN
METHOD:PUBLISH
X-PUBLISHED-TTL:P3D
REFRESH-INTERVAL:P3D
CALSCALE:GREGORIAN
BEGIN:VEVENT
DTSTART:20160227T013000Z
DTEND:20160227T040000Z
X-MICROSOFT-CDO-ALLDAYEVENT:FALSE
SUMMARY:Grandma Lee Adult Comedy Show
DESCRIPTION:Join us for our February Comedy Show featuring opening act Bob Lauver\, and headliner GRANDMA LEE! This outrageously hilarious comedian from NBC's hit show America's Got Talent electrifies audiences with her sharp wit and sassy delivery. She worked her way to the finals with her unorthodox views of family\, television and life experiences. She also appeared on the 2004 season of Last Comic Standing\, and was brought back as a special guest host the next 3 seasons being named as a Top 10 Favorite Comic of the program. She won the 2003 Las Vegas Comedy Festival at the MGM Grand and appeared in America's Got Talent Live at Planet Hollywood\, hosted by Jerry Springer.\n\n\n\nShe may be a Grandma\, but her show is not for the ...Grandchildren! She is a MUST SEE adult only performer. She may shock you with her colorful use of the English language\, but never offends! For that reason\, this will be a 21+ show.\n\n\n\nDoors will open and cash bar service will begin at 6:30pm\, with the show beginning at 7:30pm. There is no reserved seating\, so get there early! Eat dinner before the show in the Z103 Bar & Grill.\n\n\n\nTickets are available for purchase from our front desk by calling 218-739-2211. Tickets are non-refundable\, but fully transferable.\n\n\n\nAdvance Tickets: $10\n\n\n\nWeek-of-Show Tickets: $15
X-ALT-DESC;FMTTYPE=text/html:<div class="text_exposed_root text_exposed" id="id_56c1e9a7cda259932736237"><span class="fsl">Join us for our February Comedy Show featuring opening act Bob Lauver\, and headliner GRANDMA LEE! This outrageously hilarious comedian from NBC&#39\;s hit show America&#39\;s Got Talent electrifies audiences with her sharp wit and sassy delivery. She worked her way to the finals with her unorthodox views of family\, television and life experiences. She also appeared on the 2004 season of Last Comic Standing\, and was brought back as a special guest host the next 3 seasons being named as a Top 10 Favorite Comic of the program. She won the 2003 Las Vegas Comedy Festival at the MGM Grand and appeared in America&#39\;s Got Talent Live at Planet Hollywood\, hosted by Jerry Springer.<br />\n<br />\nShe may be a Grandma\, but her show is not for the <span class="text_exposed_hide">...</span><span class="text_exposed_show">Grandchildren! She is a MUST SEE adult only performer. She may shock you with her colorful use of the English language\, but never offends! For that reason\, this will be a 21+ show.<br />\n<br />\nDoors will open and cash bar service will begin at 6:30pm\, with the show beginning at 7:30pm. There is no reserved seating\, so get there early! Eat dinner before the show in the Z103 Bar &amp\; Grill.<br />\n<br />\nTickets are available for purchase from our front desk by calling 218-739-2211. Tickets are non-refundable\, but fully transferable.<br />\n<br />\nAdvance Tickets: $10<br />\n<br />\nWeek-of-Show Tickets: $15</span></span></div>\n
LOCATION:Best Western & Bigwood Event Center 925 Western Ave\, Fergus Falls\, Minnesota 56537
UID:e.314.31318
SEQUENCE:3
DTSTAMP:20260425T201336Z
URL:https://business.fergusfalls.com/events/details/grandma-lee-adult-comedy-show-02-26-2016-31318
END:VEVENT

END:VCALENDAR
