BEGIN:VCALENDAR
VERSION:2.0
PRODID:-//ChamberMaster//Event Calendar 2.0//EN
METHOD:PUBLISH
X-PUBLISHED-TTL:P3D
REFRESH-INTERVAL:P3D
CALSCALE:GREGORIAN
BEGIN:VEVENT
DTSTART:20151208T173000Z
DTEND:20151208T193000Z
X-MICROSOFT-CDO-ALLDAYEVENT:FALSE
SUMMARY:Grant Writing BASICS
DESCRIPTION:Learn the BASICS of foundation grant writing\, from research through the elements of an actual grant using the MN Common Grant Form. Also get a funder's perspective. This is for the beginning grant writer. Holly Witt - LCSC Rose Carr - Otto Bremer Foundation
X-ALT-DESC;FMTTYPE=text/html:Learn the BASICS of foundation grant writing\, from research through the elements of an actual grant using the MN Common Grant Form. Also get a funder&#39\;s perspective. This is for the beginning grant writer. Holly Witt - LCSC Rose Carr - Otto Bremer Foundation
LOCATION:Lakes Country Service Cooperative 1001 East Mount Faith Fergus Falls\, MN
UID:e.314.22566
SEQUENCE:3
DTSTAMP:20260425T232415Z
URL:https://business.fergusfalls.com/events/details/grant-writing-basics-12-08-2015-22566
END:VEVENT

END:VCALENDAR
