BEGIN:VCALENDAR
VERSION:2.0
PRODID:-//ChamberMaster//Event Calendar 2.0//EN
METHOD:PUBLISH
X-PUBLISHED-TTL:P3D
REFRESH-INTERVAL:P3D
CALSCALE:GREGORIAN
BEGIN:VEVENT
DTSTART:20180407T010000Z
DTEND:20180407T023000Z
X-MICROSOFT-CDO-ALLDAYEVENT:FALSE
SUMMARY:Great White & Slaughter at Shooting Star Casino
DESCRIPTION:Great White & Slaughter at Shooting Star Casino\n\nGreat White & Slaughter\, two 80s rock legends\, will perform at Shooting Star Casino\, Hotel and Event Center\, located at 777 Casino Road in Mahnomen\, on Friday\, April 6\, at 8 p.m. Tickets start at $15 and are on sale now. They can be purchased by phone at 1-800-313-SHOW (7469)\, or online at www.StarCasino.com/Tickets.
X-ALT-DESC;FMTTYPE=text/html:<strong>Great White &amp\; Slaughter at Shooting Star Casino</strong><br />\n<span class="_4n-j _3cht fsl" data-testid="event-permalink-details">Great White &amp\; Slaughter\, two 80s rock legends\, will perform at Shooting Star Casino\, Hotel and Event Center\, located at 777 Casino Road in Mahnomen\, on Friday\, April 6\, at 8 p.m. Tickets start at $15 and are on sale now. They can be purchased by phone at 1-800-313-SHOW (7469)\, or online at <a data-lynx-mode="hover" href="http://l.facebook.com/l.php?u=http%3A%2F%2Fwww.StarCasino.com%2FTickets&amp\;h=ATOKEBCtxGllZuJDrXSj315t2M4oAHAUfwnMrqjTlTUzRaLiT3bbh2tyBdQWbSXSYO5vY3ZhXFpBuJANhZoLSHjBlpx96cM0mQ7EhMltpC82aGX2bg" rel="nofollow" target="_blank"><font color="#0066cc">www.StarCasino.com/Tickets</font></a>.</span><br />\n&nbsp\;
LOCATION:Shooting Star Casino 777 Casino Rd\, Mahnomen\, Minnesota
UID:e.314.44936
SEQUENCE:3
DTSTAMP:20260423T235656Z
URL:https://business.fergusfalls.com/events/details/great-white-slaughter-at-shooting-star-casino-44936
END:VEVENT

END:VCALENDAR
