BEGIN:VCALENDAR
VERSION:2.0
PRODID:-//ChamberMaster//Event Calendar 2.0//EN
METHOD:PUBLISH
X-PUBLISHED-TTL:P3D
REFRESH-INTERVAL:P3D
CALSCALE:GREGORIAN
BEGIN:VEVENT
DTSTART:20151215T183000Z
DTEND:20151215T200000Z
X-MICROSOFT-CDO-ALLDAYEVENT:FALSE
SUMMARY:Greater Minnesota Rising - West Central World Cafe'
DESCRIPTION:West Central\n\n\n\nWorld Caf  \n\n\n\nBy 2022\, millenials will make up 75 percent of the national workforce. Please join together on December 15th\, 2015 to share thoughts about workforce development\, the Millenial question\, and how this group and others are connecting in the 9-county West Central Economic Development Region.\n\nRegister at  http://www.eventbrite.com/e/west-central-world-cafe-registration-19732521503 \n\nWhen:  Tuesday\, December 15th 12:30-2:00pm\n\n\n\nWhere:  West Central Initiative\n\n\n\nWho:  Regional Emerging Leaders\n\n\n\n  *Lunch will be provided\n\n\n\nGreater Minnesota Rising is a participatory research project funded by the West Central\n\n\n\nInitiative Foundation to build emerging leader networks and connections in the region.  Learn\n\n\n\n\n\nMore at http://www.minnesotarising.org/p/blog-page_24.html
X-ALT-DESC;FMTTYPE=text/html:<strong>West Central<br />\n<br />\nWorld Caf&eacute\;&nbsp\;</strong><br />\n<br />\nBy 2022\, millenials will make up 75 percent of the national workforce. Please join together on December 15th\, 2015 to share thoughts about workforce development\, the Millenial question\, and how this group and others are connecting in the 9-county West Central Economic Development Region.<br />\nRegister at &nbsp\;<a href="http://www.eventbrite.com/e/west-central-world-cafe-registration-19732521503">http://www.eventbrite.com/e/west-central-world-cafe-registration-19732521503</a>&nbsp\;<br />\n<strong>When</strong>:&nbsp\; Tuesday\, December 15th <strong>12:30-2:00pm</strong><br />\n<br />\n<strong>Where:&nbsp\; </strong>West Central Initiative<br />\n<br />\n<strong>Who</strong>:&nbsp\; Regional Emerging Leaders<br />\n<br />\n<u><em>&nbsp\; *Lunch will be provided</em></u><br />\n<br />\nGreater Minnesota Rising is a participatory research project funded by the West Central<br />\n<br />\nInitiative Foundation to build emerging leader networks and connections in the region.&nbsp\; Learn<br />\n<br />\n<br />\nMore at http://www.minnesotarising.org/p/blog-page_24.html
LOCATION:West Central Initiative
UID:e.314.27805
SEQUENCE:3
DTSTAMP:20260425T233147Z
URL:https://business.fergusfalls.com/events/details/greater-minnesota-rising-west-central-world-cafe-12-15-2015-27805
END:VEVENT

END:VCALENDAR
