BEGIN:VCALENDAR
VERSION:2.0
PRODID:-//ChamberMaster//Event Calendar 2.0//EN
METHOD:PUBLISH
X-PUBLISHED-TTL:P3D
REFRESH-INTERVAL:P3D
CALSCALE:GREGORIAN
BEGIN:VEVENT
DTSTART:20191115T183000Z
DTEND:20191115T183000Z
X-MICROSOFT-CDO-ALLDAYEVENT:FALSE
SUMMARY:Ground Breaking - Apple Tree Dental
DESCRIPTION:Apple Tree Dental is pleased to announce construction of a new Fergus Falls Center for Dental Health on Western Avenue that will improve access to dental care for low-income families and people with special needs in West Central Minnesota -- those not easily served by other dentists.\n\n\n\nApple Tree Dental's CEO\, Dr. Michael Helgeson\, welcomes everyone to a Groundbreaking Event on Friday\, November 15th at 12:30pm at the AmericInn by Wyndham at 526 Western Avenue in Fergus Falls.  Media and the public are encouraged to attend.
X-ALT-DESC;FMTTYPE=text/html:<span style="font-size: 12pt\;"><span style="font-family: helvetica\,sans-serif\;"><span style="color: rgb(117\, 117\, 117)\;">Apple Tree Dental is pleased to announce construction of a new <em><span style="font-family: helvetica\,sans-serif\;">Fergus Falls Center for Dental Health</span></em></span> on Western Avenue that will improve access to dental care for low-income families and people with special needs in West Central Minnesota -- those not easily served by other dentists.</span></span><br />\n<br />\n<span style="color: rgb(117\, 117\, 117)\; font-family: &quot\;Helvetica&quot\;\,sans-serif\; font-size: 12pt\; mso-fareast-font-family: &quot\;Times New Roman&quot\;\; mso-fareast-theme-font: minor-fareast\; mso-bidi-font-family: &quot\;Times New Roman&quot\;\; mso-bidi-theme-font: minor-bidi\; mso-ansi-language: EN-US\; mso-fareast-language: EN-US\; mso-bidi-language: AR-SA\;">Apple Tree Dental&#39\;s CEO\, Dr. Michael Helgeson\, welcomes everyone to a Groundbreaking Event on <strong><span style="font-family: &quot\;Helvetica&quot\;\,sans-serif\; mso-bidi-font-family: &quot\;Times New Roman&quot\;\; mso-bidi-theme-font: minor-bidi\;">Friday\, </span></strong><strong><span style="font-family: &quot\;Helvetica&quot\;\,sans-serif\; font-weight: normal\; mso-bidi-font-family: &quot\;Times New Roman&quot\;\; mso-bidi-theme-font: minor-bidi\;">November 15th at 12:30pm</span></strong><strong><span style="font-family: &quot\;Helvetica&quot\;\,sans-serif\; mso-bidi-font-family: &quot\;Times New Roman&quot\;\; mso-bidi-theme-font: minor-bidi\;"> at the AmericInn by Wyndham at 526 Western Avenue in Fergus Falls.&nbsp\; </span></strong>Media and the public are encouraged to attend.</span>
LOCATION:AmericInn by Wyndham at 526 Western Avenue in Fergus Falls
UID:e.314.55809
SEQUENCE:3
DTSTAMP:20260422T185756Z
URL:https://business.fergusfalls.com/events/details/ground-breaking-apple-tree-dental-55809
END:VEVENT

END:VCALENDAR
