BEGIN:VCALENDAR
VERSION:2.0
PRODID:-//ChamberMaster//Event Calendar 2.0//EN
METHOD:PUBLISH
X-PUBLISHED-TTL:P3D
REFRESH-INTERVAL:P3D
CALSCALE:GREGORIAN
BEGIN:VEVENT
DTSTART:20160406T160000Z
DTEND:20160406T163000Z
X-MICROSOFT-CDO-ALLDAYEVENT:FALSE
SUMMARY:Ground Breaking - River Oaks Landing
DESCRIPTION:Bring out the Golden Shovels!\n\nGround Breaking for the River Oaks Landing housing units to be built in Fergus Falls.
X-ALT-DESC;FMTTYPE=text/html:Bring out the Golden Shovels!<br />\nGround Breaking for the River Oaks Landing housing units to be built in Fergus Falls.
LOCATION:1480 Westside Drive Fergus Falls\, MN
UID:e.314.32386
SEQUENCE:3
DTSTAMP:20260425T162954Z
URL:https://business.fergusfalls.com/events/details/ground-breaking-river-oaks-landing-04-06-2016-32386
END:VEVENT

END:VCALENDAR
