BEGIN:VCALENDAR
VERSION:2.0
PRODID:-//ChamberMaster//Event Calendar 2.0//EN
METHOD:PUBLISH
X-PUBLISHED-TTL:P3D
REFRESH-INTERVAL:P3D
CALSCALE:GREGORIAN
BEGIN:VEVENT
DTSTART:20181229T023000Z
DTEND:20181229T063000Z
X-MICROSOFT-CDO-ALLDAYEVENT:FALSE
SUMMARY:Gunshy @ VFW
DESCRIPTION:Start The New Year With\n\nGunshy   8:30pm-12:30am\n\n \n\nFRIDAY\, DECEMBER 28
X-ALT-DESC;FMTTYPE=text/html:<p align="LEFT"><strong><font face="TextileRegular" size="5"><font face="TextileRegular" size="5">Start The New Year With</font></font></strong></p>\n\n<p align="LEFT"><b><i><font face="Univers-CondensedBoldOblique" size="5"><font face="Univers-CondensedBoldOblique" size="5">Gunshy &bull\; 8:30pm-12:30am</font></font></i></b></p>\n\n<p align="LEFT">&nbsp\;</p>\n\n<p align="LEFT"><b><font face="Univers-CondensedBold" size="6"><font face="Univers-CondensedBold" size="6">FRIDAY\, DECEMBER 28</font></font></b></p>\n\n<p>&nbsp\;</p>\n
LOCATION:VFW - Fergus Falls Washington Ave
UID:e.314.52180
SEQUENCE:3
DTSTAMP:20260423T122030Z
URL:https://business.fergusfalls.com/events/details/gunshy-vfw-52180
END:VEVENT

END:VCALENDAR
