BEGIN:VCALENDAR
VERSION:2.0
PRODID:-//ChamberMaster//Event Calendar 2.0//EN
METHOD:PUBLISH
X-PUBLISHED-TTL:P3D
REFRESH-INTERVAL:P3D
CALSCALE:GREGORIAN
BEGIN:VEVENT
DTSTART:20210803T210000Z
DTEND:20210803T210000Z
X-MICROSOFT-CDO-ALLDAYEVENT:FALSE
SUMMARY:Habitat for Humanity Bike Ride
DESCRIPTION:Since the Habitat 500 bike ride this year is virtual\, we'll have our own ride! Join us on August 3 as we build community and fundraise for Habitat for Humanity. The Fergus Falls Area Habitat for Humanity (FFAHF) has a team and invites you to join them. The ride is designed for all abilities and includes a social aspect to each ride. Meet at the HWY 210 E.\, Central Lakes Trail Trailhead. We will leave at 4:00 pm and ride to Ashby for pizza and beer at ABC Brewery. This is a 40 mile out-and-back ride.\n\nThere are two options for paying for the registration and fundraising:\n\n1. Riders can pay their entry fee of $150 and don't have any expectation to fundraise. The registration fee goes to Habitat MN and does not go to Fergus Falls Habitat.\n\n2. Riders can have FF Habitat pay for their entry. The expectation would be that they then fundraise for FF Habitat in their ride. If riders would like to do this\, when registering they should choose "pay offline" on the first screen of the registration. An email will come to them prompting them to send their registration check in. They can ignore that. FF Habitat will pay for all of the entry fees at the end of the Habitat 500 event in September.\n\nFundraising ends September 30.
X-ALT-DESC;FMTTYPE=text/html:<div class="kvgmc6g5 cxmmr5t8 oygrvhab hcukyx3x c1et5uql" style="overflow-wrap: break-word\; margin: 0px\; font-family: &quot\;Segoe UI Historic&quot\;\, &quot\;Segoe UI&quot\;\, Helvetica\, Arial\, sans-serif\; color: rgb(5\, 5\, 5)\; font-size: 14.0625px\;">Since the Habitat 500 bike ride this year is virtual\, we&rsquo\;ll have our own ride! Join us on August 3 as we build community and fundraise for Habitat for Humanity. The Fergus Falls Area Habitat for Humanity (FFAHF) has a team and invites you to join them. The ride is designed for all abilities and includes a social aspect to each ride. Meet at the HWY 210 E.\, Central Lakes Trail Trailhead. We will leave at 4:00 pm and ride to Ashby for pizza and beer at ABC Brewery. This is a 40 mile out-and-back ride.</div>\n\n<div class="o9v6fnle cxmmr5t8 oygrvhab hcukyx3x c1et5uql" style="overflow-wrap: break-word\; margin: 0.5em 0px 0px\; font-family: &quot\;Segoe UI Historic&quot\;\, &quot\;Segoe UI&quot\;\, Helvetica\, Arial\, sans-serif\; color: rgb(5\, 5\, 5)\; font-size: 14.0625px\;">There are two options for paying for the registration and fundraising:<br />\n1. Riders can pay their entry fee of $150 and don&#39\;t have any expectation to fundraise. The registration fee goes to Habitat MN and does not go to Fergus Falls Habitat.</div>\n\n<div class="o9v6fnle cxmmr5t8 oygrvhab hcukyx3x c1et5uql" style="overflow-wrap: break-word\; margin: 0.5em 0px 0px\; font-family: &quot\;Segoe UI Historic&quot\;\, &quot\;Segoe UI&quot\;\, Helvetica\, Arial\, sans-serif\; color: rgb(5\, 5\, 5)\; font-size: 14.0625px\;">2. Riders can have FF Habitat pay for their entry. The expectation would be that they then fundraise for FF Habitat in their ride. If riders would like to do this\, when registering they should choose &quot\;pay offline&quot\; on the first screen of the registration. An email will come to them prompting them to send their registration check in. They can ignore that. FF Habitat will pay for all of the entry fees at the end of the Habitat 500 event in September.</div>\n\n<div class="o9v6fnle cxmmr5t8 oygrvhab hcukyx3x c1et5uql" style="overflow-wrap: break-word\; margin: 0.5em 0px 0px\; font-family: &quot\;Segoe UI Historic&quot\;\, &quot\;Segoe UI&quot\;\, Helvetica\, Arial\, sans-serif\; color: rgb(5\, 5\, 5)\; font-size: 14.0625px\;">Fundraising ends September 30.</div>\n
LOCATION:
UID:e.314.63323
SEQUENCE:3
DTSTAMP:20260421T101156Z
URL:https://business.fergusfalls.com/events/details/habitat-for-humanity-bike-ride-63323
END:VEVENT

END:VCALENDAR
