BEGIN:VCALENDAR
VERSION:2.0
PRODID:-//ChamberMaster//Event Calendar 2.0//EN
METHOD:PUBLISH
X-PUBLISHED-TTL:P3D
REFRESH-INTERVAL:P3D
CALSCALE:GREGORIAN
BEGIN:VEVENT
DTSTART:20190929T180000Z
DTEND:20190929T200000Z
X-MICROSOFT-CDO-ALLDAYEVENT:FALSE
SUMMARY:Habitat home open house
DESCRIPTION:Habitat for Humanity and Thrivent Financial are teaming up to provide a community celebration and open house to showcase the renovated Habitat home at 303 Moen Drive in Battle Lake\, MN.\n\n\n\nJoin us from 1-3 to fellowship over bars and coffee and view the progress on the home. All are welcome!
X-ALT-DESC;FMTTYPE=text/html:<div class="_63ew" data-testid="event-permalink-details"><span>Habitat for Humanity and Thrivent Financial are teaming up to provide a community celebration and open house to showcase the renovated Habitat home at 303 Moen Drive in Battle Lake\, MN.<br />\n<br />\nJoin us from 1-3 to fellowship over bars and coffee and view the progress on the home. All are welcome! </span></div>\n
LOCATION:Fergus Falls Area Habitat for Humanity 421 W Fir Ave\, Lowr\, Fergus Falls\, Minnes
UID:e.314.54580
SEQUENCE:3
DTSTAMP:20260422T222446Z
URL:https://business.fergusfalls.com/events/details/habitat-home-open-house-54580
END:VEVENT

END:VCALENDAR
