BEGIN:VCALENDAR
VERSION:2.0
PRODID:-//ChamberMaster//Event Calendar 2.0//EN
METHOD:PUBLISH
X-PUBLISHED-TTL:P3D
REFRESH-INTERVAL:P3D
CALSCALE:GREGORIAN
BEGIN:VEVENT
DTSTART:20190114T160000Z
DTEND:20190114T190000Z
X-MICROSOFT-CDO-ALLDAYEVENT:FALSE
SUMMARY:Habitat House Open House and Dedication
DESCRIPTION:Join the State and National officers of the Catholic Daughters of the Americas as they host an open house and light lunch at the newest Habitat for Humanity home in Fergus Falls.\n\n\n\n\n\n \n10:00 AM - 12:00 PM\n\n\nOpen House\n\n\n\n \n\n\n \n\n\n12:00 PM - 12:15 PM\n\n\nDedication and Blessing of the House\n\n\n\n\n\n\n \n\n\n \n\n\n12:15 PM - 12:30 PM\n\n\nLunch
X-ALT-DESC;FMTTYPE=text/html:<div class="_63ew" data-testid="event-permalink-details"><span>Join the State and National officers of the Catholic Daughters of the Americas as they host an open house and light lunch at the newest Habitat for Humanity home in Fergus Falls.</span><br />\n<br />\n<br />\n&nbsp\;\n<div class="_6eup"><span>10:00 AM - 12:00 PM</span></div>\n\n<div class="_6euq">\n<div>Open House</div>\n</div>\n\n<div class="_6int">\n<div class="_6f1n">&nbsp\;</div>\n\n<div class="_6f1m">\n<div class="_6f1o">&nbsp\;</div>\n\n<div>\n<div class="_6eup"><span>12:00 PM - 12:15 PM</span></div>\n\n<div class="_6euq">\n<div>Dedication and Blessing of the House</div>\n</div>\n</div>\n</div>\n</div>\n\n<div class="_6int">\n<div>&nbsp\;</div>\n\n<div class="_6f1m">\n<div class="_6f1o">&nbsp\;</div>\n\n<div>\n<div class="_6eup"><span>12:15 PM - 12:30 PM</span></div>\n\n<div class="_6euq">\n<div>Lunch</div>\n</div>\n</div>\n</div>\n</div>\n</div>\n
LOCATION:907 Aurdal Ave Fergus Falls
UID:e.314.52198
SEQUENCE:3
DTSTAMP:20260423T105826Z
URL:https://business.fergusfalls.com/events/details/habitat-house-open-house-and-dedication-52198
END:VEVENT

END:VCALENDAR
