BEGIN:VCALENDAR
VERSION:2.0
PRODID:-//ChamberMaster//Event Calendar 2.0//EN
METHOD:PUBLISH
X-PUBLISHED-TTL:P3D
REFRESH-INTERVAL:P3D
CALSCALE:GREGORIAN
BEGIN:VEVENT
DTSTART:20181031T210000Z
DTEND:20181031T223000Z
X-MICROSOFT-CDO-ALLDAYEVENT:FALSE
SUMMARY:Halloween 2018 LB Woodland Lodge
DESCRIPTION:Trick-or-Treaters are welcome to visit us at LB Woodland Lodge\, our Enhanced Assisted Living residence. Your kids will enjoy getting treats and our residents will love seeing all the costumes. Join us this Halloween!\n\n\n\n218.737.6100
X-ALT-DESC;FMTTYPE=text/html:Trick-or-Treaters are welcome to visit us at LB Woodland Lodge\, our Enhanced Assisted Living residence. Your kids will enjoy getting treats and our residents will love seeing all the costumes. Join us this Halloween!<br />\n<br />\n218.737.6100
LOCATION:394 Woodland Dr\, Fergus Falls
UID:e.314.51631
SEQUENCE:3
DTSTAMP:20260423T164944Z
URL:https://business.fergusfalls.com/events/details/halloween-2018-lb-woodland-lodge-51631
END:VEVENT

END:VCALENDAR
