BEGIN:VCALENDAR
VERSION:2.0
PRODID:-//ChamberMaster//Event Calendar 2.0//EN
METHOD:PUBLISH
X-PUBLISHED-TTL:P3D
REFRESH-INTERVAL:P3D
CALSCALE:GREGORIAN
BEGIN:VEVENT
DTSTART:20221029T180000Z
DTEND:20221029T213000Z
X-MICROSOFT-CDO-ALLDAYEVENT:FALSE
SUMMARY:Halloween at the "Boo"seum at Otter Cove!
DESCRIPTION:Join us for a "Monster Mash" at Otter Cove!\n\n\n	Halloween-themed activities\n	Pumpkin decorating\n	Glow-in-the-dark dance party\n\n\nCostumes encouraged! No toy weapons please.\n\n\n\nIncluded in membership or daily admission ($7/person).\n\n\n\nSponsored by Thrivent Financial - Joel Pettigrew & Matt McKinney\n\n\n\nPumpkins provided by Leland's Pumpkins
X-ALT-DESC;FMTTYPE=text/html:<div><strong>Join us for a &quot\;Monster Mash&quot\; at Otter Cove!</strong></div>\n\n<ul>\n	<li>Halloween-themed activities</li>\n	<li>Pumpkin decorating</li>\n	<li>Glow-in-the-dark dance party</li>\n</ul>\n\n<div>Costumes encouraged! No toy weapons please.</div>\n\n<div><br />\nIncluded in membership or daily admission ($7/person).</div>\n\n<div><br />\nSponsored by Thrivent Financial - Joel Pettigrew &amp\; Matt McKinney</div>\n\n<div><br />\nPumpkins provided by Leland&#39\;s Pumpkins</div>\n
LOCATION:Otter Cove Children's Museum
UID:e.314.67591
SEQUENCE:3
DTSTAMP:20260421T104207Z
URL:https://business.fergusfalls.com/events/details/halloween-at-the-boo-seum-at-otter-cove-67591
END:VEVENT

END:VCALENDAR
