BEGIN:VCALENDAR
VERSION:2.0
PRODID:-//ChamberMaster//Event Calendar 2.0//EN
METHOD:PUBLISH
X-PUBLISHED-TTL:P3D
REFRESH-INTERVAL:P3D
CALSCALE:GREGORIAN
BEGIN:VEVENT
DTSTART:20151030T223000Z
DTEND:20151031T020000Z
X-MICROSOFT-CDO-ALLDAYEVENT:FALSE
SUMMARY:Halloween at the Haunted Museum!
DESCRIPTION:Halloween\, a favorite time of year\, gives us the opportunity to revisit some of our area's most notorious people and events at the Otter Tail County Historical Society's Haunted Museum on Friday\, October 30\, at 7:30 p.m.\n\n     The history of Otter Tail County is replete with stories that are shocking\, spine-tingling and bizarre. Taken directly from local historical accounts\, readers will present stories of grisly murders\, escaped maniacs and other blood curdling tales.\n\n     Many of the events have become the stuff of legend\, to the point that the truth has often been obscured. The Haunted Museum is an opportunity to go beyond the rumors to get the true gory details. The question is\, do you have the stomach to know what really took place on the pig farm?\n\n     Come between 5:30 - 6:30 to save a seat and get a spooky museum tour from Missy "Black Widow" Hermes. Also\, Cliff Knutson and Karen Field will be on hand to sign copies of their book "The Pig Farm Murder of 1887.\n\n     Admission is $6. For more information contact the museum at 218-736-6038.
X-ALT-DESC;FMTTYPE=text/html:<span style="color: rgb(255\, 140\, 0)\;"><strong>&nbsp\;&nbsp\;&nbsp\;&nbsp\; <span class="contextualExtensionHighlight ms-font-color-themePrimary ms-border-color-themePrimary ident_73_293" role="button" tabindex="0">Halloween\, a favorite time of year\, gives us the opportunity to revisit some of our area&rsquo\;s most notorious people and events at the Otter Tail County Historical Society&#39\;s Haunted Museum on Friday\, October 30\, at 7:30 p.m.</span></strong></span><br />\n&nbsp\;&nbsp\;&nbsp\;&nbsp\; <strong>The history of Otter Tail County is replete with stories that are shocking\, spine-tingling and bizarre. Taken directly from local historical accounts\, readers will present stories of grisly murders\, escaped maniacs and other blood curdling tales.<br />\n&nbsp\;&nbsp\;&nbsp\;&nbsp\; Many of the events have become the stuff of legend\, to the point that the truth has often been obscured. The Haunted Museum is an opportunity to go beyond the rumors to get the true gory details. The question is\, do you have the stomach to know what really took place on the pig farm?</strong><br />\n&nbsp\;&nbsp\;&nbsp\;&nbsp\;<strong><span style="color: rgb(255\, 140\, 0)\;"> <span class="contextualExtensionHighlight ms-font-color-themePrimary ms-border-color-themePrimary ident_842_943" role="button" tabindex="0">Come between 5:30 - 6:30 to save a seat and get a spooky museum tour from Missy &ldquo\;Black Widow&rdquo\; Hermes.</span></span> Also\, Cliff Knutson and Karen Field will be on hand to sign copies of their book &ldquo\;The Pig Farm Murder of 1887.<br />\n&nbsp\;&nbsp\;&nbsp\;&nbsp\; Admission is $6. For more information contact the museum at 218-736-6038.</strong><br />\n<br />\n&nbsp\;
LOCATION:
UID:e.314.24639
SEQUENCE:3
DTSTAMP:20260426T030136Z
URL:https://business.fergusfalls.com/events/details/halloween-at-the-haunted-museum-10-30-2015-24639
END:VEVENT

END:VCALENDAR
