BEGIN:VCALENDAR
VERSION:2.0
PRODID:-//ChamberMaster//Event Calendar 2.0//EN
METHOD:PUBLISH
X-PUBLISHED-TTL:P3D
REFRESH-INTERVAL:P3D
CALSCALE:GREGORIAN
BEGIN:VEVENT
DTSTART:20191025T230000Z
DTEND:20191026T010000Z
X-MICROSOFT-CDO-ALLDAYEVENT:FALSE
SUMMARY:Halloween at the YMCA
DESCRIPTION:Halloween at the Y! Join us for a fun family time with games\, costume party\, prizes and candy!\n\nPlease bring a canned food donation to support the Fergus Falls Food Shelf.
X-ALT-DESC;FMTTYPE=text/html:<div class="_63ew" data-testid="event-permalink-details"><span>Halloween at the Y! Join us for a fun family time with games\, costume party\, prizes and candy!<br />\nPlease bring a canned food donation to support the Fergus Falls Food Shelf.</span></div>\n
LOCATION:Fergus Falls YMCA 1164 Friberg Ave Fergus Falls
UID:e.314.54572
SEQUENCE:3
DTSTAMP:20260422T203644Z
URL:https://business.fergusfalls.com/events/details/halloween-at-the-ymca-54572
END:VEVENT

END:VCALENDAR
