BEGIN:VCALENDAR
VERSION:2.0
PRODID:-//ChamberMaster//Event Calendar 2.0//EN
METHOD:PUBLISH
X-PUBLISHED-TTL:P3D
REFRESH-INTERVAL:P3D
CALSCALE:GREGORIAN
BEGIN:VEVENT
DTSTART:20151101T020000Z
DTEND:20151101T045000Z
X-MICROSOFT-CDO-ALLDAYEVENT:FALSE
SUMMARY:Halloween Costume Party
DESCRIPTION:Adult Halloween Party     \n\nOct 31st\n\nVFW\n\n420 Washington Ave\n\nFergus Falls
X-ALT-DESC;FMTTYPE=text/html:<strong>Adult Halloween Party &nbsp\;&nbsp\;&nbsp\;&nbsp\;<br />\nOct 31st<br />\nVFW<br />\n420 Washington Ave<br />\nFergus Falls </strong><br />\n&nbsp\;
LOCATION:
UID:e.314.25089
SEQUENCE:3
DTSTAMP:20260426T030132Z
URL:https://business.fergusfalls.com/events/details/halloween-costume-party-10-31-2015-25089
END:VEVENT

END:VCALENDAR
