BEGIN:VCALENDAR
VERSION:2.0
PRODID:-//ChamberMaster//Event Calendar 2.0//EN
METHOD:PUBLISH
X-PUBLISHED-TTL:P3D
REFRESH-INTERVAL:P3D
CALSCALE:GREGORIAN
BEGIN:VEVENT
DTSTART:20151031T010000Z
DTEND:20151031T040000Z
X-MICROSOFT-CDO-ALLDAYEVENT:FALSE
SUMMARY:Halloween Eve Music & Art Launch Party
DESCRIPTION:Halloween Eve Music & Art Launch Party - The Spot\n\nFri Oct 30th 8pm \n\n\n\nLive music by:\n\nThe Ditch Hoppers\n\nCeiling Walker\n\nDugShromcok\n\n( and more Artists TBA)\n\n\n\nPBR Beer specials\n\nThe Spot is showcasing Original Artwork by Chaos. Throughout the month of Oct\, and paintings are available for purchase.
X-ALT-DESC;FMTTYPE=text/html:<span class="entity _4v1s" data-fulltext="Halloween&nbsp\;Eve&nbsp\;Music&nbsp\;&amp\;&nbsp\;Art&nbsp\;Launch&nbsp\;Party" data-group="all" data-icon="null" data-select="group" data-si="true" data-text="Halloween&nbsp\;Eve&nbsp\;Music&nbsp\;&amp\;&nbsp\;Art&nbsp\;Launch&nbsp\;Party" data-type="ent:event" data-uid="389791464546218"><strong>Halloween&nbsp\;Eve&nbsp\;Music&nbsp\;&amp\;&nbsp\;Art&nbsp\;Launch&nbsp\;Party - The Spot<br />\nFri Oct 30th 8pm </strong></span><br />\n<br />\n<span class="fsl"><em>Live music by:</em><br />\n<a data-hovercard="/ajax/hovercard/page.php?id=1440763382881621&amp\;extragetparams=%7B%22directed_target_id%22%3A389791464546218%7D" href="https://www.facebook.com/theditchhoppers"><font color="#0066cc">The Ditch Hoppers</font></a><br />\n<a data-hovercard="/ajax/hovercard/page.php?id=104766182900503&amp\;extragetparams=%7B%22directed_target_id%22%3A389791464546218%7D" href="https://www.facebook.com/CeilingWalker"><font color="#0066cc">Ceiling Walker</font></a><br />\nDugShromcok<br />\n( and more Artists TBA)<br />\n<br />\nPBR Beer specials<br />\nThe Spot is showcasing Original Artwork by Chaos. Throughout the month of Oct\, and paintings are available for purchase.</span>
LOCATION:The Spot Panini & Wine 220 W Lincoln Ave Fergus Falls Mn
UID:e.314.24226
SEQUENCE:3
DTSTAMP:20260426T030601Z
URL:https://business.fergusfalls.com/events/details/halloween-eve-music-art-launch-party-10-30-2015-24226
END:VEVENT

END:VCALENDAR
