BEGIN:VCALENDAR
VERSION:2.0
PRODID:-//ChamberMaster//Event Calendar 2.0//EN
METHOD:PUBLISH
X-PUBLISHED-TTL:P3D
REFRESH-INTERVAL:P3D
CALSCALE:GREGORIAN
BEGIN:VEVENT
DTSTART:20171031T150000Z
DTEND:20171031T160000Z
X-MICROSOFT-CDO-ALLDAYEVENT:FALSE
SUMMARY:Halloween Library Storytime
DESCRIPTION:Stories\, Costume parade\, treats and special games and activities. Ages 0-5 with a caregiver.
X-ALT-DESC;FMTTYPE=text/html:Stories\, Costume parade\, treats and special games and activities. Ages 0-5 with a caregiver.
LOCATION:Fergus Falls Public Library 1505 Pebble Lake Road Fergus Falls\, MN 56537
UID:e.314.42887
SEQUENCE:3
DTSTAMP:20260424T092413Z
URL:https://business.fergusfalls.com/events/details/halloween-library-storytime-42887
END:VEVENT

END:VCALENDAR
