BEGIN:VCALENDAR
VERSION:2.0
PRODID:-//ChamberMaster//Event Calendar 2.0//EN
METHOD:PUBLISH
X-PUBLISHED-TTL:P3D
REFRESH-INTERVAL:P3D
CALSCALE:GREGORIAN
BEGIN:VEVENT
DTSTART:20181101T020000Z
DTEND:20181101T055500Z
X-MICROSOFT-CDO-ALLDAYEVENT:FALSE
SUMMARY:Halloween Party at the Z103
DESCRIPTION:Halloween Party\n\n	DJ & Karaoke at 9pm\n	Costume Party at Midnight \n	Drink & Shot Specials
X-ALT-DESC;FMTTYPE=text/html:<span style="font-size:48px\;">Halloween Party</span>\n<ul>\n	<li><strong>DJ &amp\; Karaoke at 9pm</strong></li>\n	<li><strong>Costume Party at Midnight&nbsp\;</strong></li>\n	<li><strong>Drink &amp\; Shot Specials&nbsp\;</strong></li>\n</ul>\n
LOCATION:Z103 Bar & Grill
UID:e.314.51632
SEQUENCE:3
DTSTAMP:20260423T150846Z
URL:https://business.fergusfalls.com/events/details/halloween-party-at-the-z103-51632
END:VEVENT

END:VCALENDAR
