BEGIN:VCALENDAR
VERSION:2.0
PRODID:-//ChamberMaster//Event Calendar 2.0//EN
METHOD:PUBLISH
X-PUBLISHED-TTL:P3D
REFRESH-INTERVAL:P3D
CALSCALE:GREGORIAN
BEGIN:VEVENT
DTSTART:20191101T020000Z
DTEND:20191031T170000Z
X-MICROSOFT-CDO-ALLDAYEVENT:FALSE
SUMMARY:Halloween Party At The Z103!
DESCRIPTION:Don't forget to come out tonight for our Halloween Party! Decorations are up\, Jello shots are set\, and we're ready to eat\, drink\, and be scary!
X-ALT-DESC;FMTTYPE=text/html:Don&#39\;t forget to come out tonight for our Halloween Party! Decorations are up\, Jello shots are set\, and we&#39\;re ready to eat\, drink\, and be scary!
LOCATION:Z103 Bar & Grill
UID:e.314.55783
SEQUENCE:3
DTSTAMP:20260422T204102Z
URL:https://business.fergusfalls.com/events/details/halloween-party-at-the-z103-55783
END:VEVENT

END:VCALENDAR
