BEGIN:VCALENDAR
VERSION:2.0
PRODID:-//ChamberMaster//Event Calendar 2.0//EN
METHOD:PUBLISH
X-PUBLISHED-TTL:P3D
REFRESH-INTERVAL:P3D
CALSCALE:GREGORIAN
BEGIN:VEVENT
DTSTART:20151101T020000Z
DTEND:20151101T045500Z
X-MICROSOFT-CDO-ALLDAYEVENT:FALSE
SUMMARY:Halloween Red Carpet Extravaganza
DESCRIPTION:LEXI D"S Halloween Red Carpet Extravaganza\n\nCome Dressed as Your Favorite Celeb & Walk The Red Carpet\n\n\n\nVoting Begins at 9pm \n\nWinner of Best Dressed get announced at 11pm\n\n\n\nGAMES\n\nDJ 9pm-1am\n\nBest Dressed Female Celeb\n\nDrink Specials\n\nPrizes\n\nLip Sync Battle\n\nBest Dressed Male Celeb
X-ALT-DESC;FMTTYPE=text/html:<p><strong>LEXI D&quot\;S Halloween Red Carpet Extravaganza<br />\nCome Dressed as Your Favorite Celeb &amp\; Walk The Red Carpet<br />\n<br />\nVoting Begins at 9pm </strong></p>\n\n<p><strong>Winner of Best Dressed get announced at 11pm</strong><br />\n<br />\n<span style="color: rgb(0\, 0\, 255)\;">GAMES<br />\nDJ 9pm-1am<br />\nBest Dressed Female Celeb<br />\nDrink Specials<br />\nPrizes<br />\nLip Sync Battle<br />\nBest Dressed Male Celeb</span><br />\n&nbsp\;</p>\n
LOCATION:Mabel Murphy's 3401 Hwy. 210 W. Fergus Falls\,
UID:e.314.25085
SEQUENCE:3
DTSTAMP:20260426T025927Z
URL:https://business.fergusfalls.com/events/details/halloween-red-carpet-extravaganza-10-31-2015-25085
END:VEVENT

END:VCALENDAR
