BEGIN:VCALENDAR
VERSION:2.0
PRODID:-//ChamberMaster//Event Calendar 2.0//EN
METHOD:PUBLISH
X-PUBLISHED-TTL:P3D
REFRESH-INTERVAL:P3D
CALSCALE:GREGORIAN
BEGIN:VEVENT
DTSTART;VALUE=DATE:20160813
DTEND;VALUE=DATE:20160814
TRANSP:TRANSPARENT
X-MICROSOFT-CDO-ALLDAYEVENT:TRUE
SUMMARY:Harmon Killebrew Hospice Day
DESCRIPTION:Join us for the 4th Annual Harmon Killebrew Hospice Day at Target Field. Hop on a community fan bus for worry-free transportation to and from the game. After getting on your bus\, enjoy a tailgating party/lunch with Nita Killebrew at Cub Foods in Alexandria. Then we continue to the game where you will take in the festivities and game from our lower-level hospice fan section. The MN Twins will be taking on the division rival KC Royals. Then after the game\, hop back on your bus for a stress-free trip back home. We will also be raffling off a custom 2016 Harley Davidson at the game. This event not only raises awareness for hospice and Harmon's passion of hospice care statewide\, but it also supports our local hospice.
X-ALT-DESC;FMTTYPE=text/html:Join us for the 4th Annual Harmon Killebrew Hospice Day at Target Field. Hop on a community fan bus for worry-free transportation to and from the game. After getting on your bus\, enjoy a tailgating party/lunch with Nita Killebrew at Cub Foods in Alexandria. Then we continue to the game where you will take in the festivities and game from our lower-level hospice fan section. The MN Twins will be taking on the division rival KC Royals. Then after the game\, hop back on your bus for a stress-free trip back home. We will also be raffling off a custom 2016 Harley Davidson at the game.&nbsp\;This event not only raises awareness for hospice and Harmon&#39\;s passion of hospice care&nbsp\;statewide\, but it also supports our local hospice.
LOCATION:Fergus Falls\, MN
UID:e.314.32681
SEQUENCE:3
DTSTAMP:20260425T110459Z
URL:https://business.fergusfalls.com/events/details/harmon-killebrew-hospice-day-08-13-2016-32681
END:VEVENT

END:VCALENDAR
