BEGIN:VCALENDAR
VERSION:2.0
PRODID:-//ChamberMaster//Event Calendar 2.0//EN
METHOD:PUBLISH
X-PUBLISHED-TTL:P3D
REFRESH-INTERVAL:P3D
CALSCALE:GREGORIAN
BEGIN:VEVENT
DTSTART:20160306T233000Z
DTEND:20160307T020000Z
X-MICROSOFT-CDO-ALLDAYEVENT:FALSE
SUMMARY:Harvest America Simulcast
DESCRIPTION:Musicians Live Streamed: Chris Tomlin\, Lecrae\, Switchfoot\, MercyMe\n\n\n\nJoin us for the live stream of the Harvest America Simulcast on March 6th @ 5:30pm at the Bigwood Event Center in the Oxley Room. This is a free event and free pizza will be provided. #FergusFalls\n\n\n\nFor more info. check out: http://harvestamerica.com/
X-ALT-DESC;FMTTYPE=text/html:<span class="fsl">Musicians Live Streamed: Chris Tomlin\, Lecrae\, Switchfoot\, MercyMe<br />\n<br />\nJoin us for the live stream of the Harvest America Simulcast on March 6th @ 5:30pm at the Bigwood Event Center in the Oxley Room. This is a free event and free pizza will be provided. <a class="_58cn" data-ft="{&quot\;tn&quot\;:&quot\;*N&quot\;\,&quot\;type&quot\;:104}" href="https://www.facebook.com/hashtag/fergusfalls"><font color="#0066cc">#FergusFalls</font></a><br />\n<br />\nFor more info. check out: <a href="http://harvestamerica.com/" rel="nofollow nofollow" target="_blank"><font color="#0066cc">http://harvestamerica.com/</font></a></span>
LOCATION:Best Western & Bigwood Event Center 925 Western Ave\, Fergus Falls\, Minnesota 56537
UID:e.314.31322
SEQUENCE:3
DTSTAMP:20260425T182323Z
URL:https://business.fergusfalls.com/events/details/harvest-america-simulcast-03-06-2016-31322
END:VEVENT

END:VCALENDAR
