BEGIN:VCALENDAR
VERSION:2.0
PRODID:-//ChamberMaster//Event Calendar 2.0//EN
METHOD:PUBLISH
X-PUBLISHED-TTL:P3D
REFRESH-INTERVAL:P3D
CALSCALE:GREGORIAN
BEGIN:VEVENT
DTSTART:20181003T233000Z
DTEND:20181004T013000Z
X-MICROSOFT-CDO-ALLDAYEVENT:FALSE
SUMMARY:Harvest Dance
DESCRIPTION:Come enjoy music by Motu at the Senior Center's Harvest Dance. Open to all members at no charge and the public age 55 and older is invited for $5. Punch and popcorn will be served. Alcohol is not permitted.
X-ALT-DESC;FMTTYPE=text/html:Come enjoy music by Motu at the Senior Center&#39\;s Harvest Dance. Open to all members at no charge and the public age 55 and older is invited for $5. Punch and popcorn will be served. Alcohol is not permitted.
LOCATION:Fergus Falls Senior Center 115 Lincoln Ave W Fergus Falls MN
UID:e.314.50366
SEQUENCE:3
DTSTAMP:20260423T150528Z
URL:https://business.fergusfalls.com/events/details/harvest-dance-50366
END:VEVENT

END:VCALENDAR
