BEGIN:VCALENDAR
VERSION:2.0
PRODID:-//ChamberMaster//Event Calendar 2.0//EN
METHOD:PUBLISH
X-PUBLISHED-TTL:P3D
REFRESH-INTERVAL:P3D
CALSCALE:GREGORIAN
BEGIN:VEVENT
DTSTART:20151017T190000Z
DTEND:20151017T230000Z
X-MICROSOFT-CDO-ALLDAYEVENT:FALSE
SUMMARY:Harvest Fest Fergus Falls @ Union Pizza & Brewing CO.
DESCRIPTION:Welcome\, everyone\, to (the first annual) Harvest Fest Fergus Falls 2015! This Saturday we will open at 2:00 for live music\, games\, food\, beer\, prizes\, and more! Event kicks off at 2pm sharp.\n\n\n\nMUSIC: Live music from several local musicians\, including Daniel and the Real Feels\, The Boys\, Dandy Andy\, Greg Stumbo and the Jennys\, and more. Feel free to bring your own instruments for a community "jam" session following the show!\n\n\n\nFOOD: Homemade Beer Cheese soup (featuring our "house" Traveler IPA\, of course!)\, hot and soft brick-oven pretzels\, pumpkin pie\, hot apple cider\, and our featured "Oktoberfest" celebration pizza\, the Berlin Bratwurst! Other "Fall" foods to be announced day of event.\n\n\n\nBEER: We are thrilled to... be debuting Fargo Brewing Co.'s "Brunch Buster" coffee porter\, a collaboration with Fergus Falls' very own Stumbeano's Coffee Co. Pitchers of Minnesota Gold lager and Surly Hell available!\n\n\n\nGAMES: Fun for the whole family! We will be hosting a bean bags (aka "Cornhole") tournament and will set up Pumpkin Bowling in the back alley. Prizes to be awarded! At 3:00 we will host a Magic the Gathering tournament\, as well\, so bring your best deck!\n\n\n\nSo come on in on to warm up with hot soup\, hot cider\, live jams\, brick oven pizza\, new beers\, and new friends. While this event goes from 2-6pm\, we will remain open regular business hours\, 'til 10pm. Please share this event with your friends and family\, and we'll see you Saturday!
X-ALT-DESC;FMTTYPE=text/html:<div class="text_exposed_root text_exposed" id="id_561fad071c5c15141827295"><span class="fsl">Welcome\, everyone\, to (the first annual) Harvest Fest Fergus Falls 2015! This Saturday we will open at 2:00 for live music\, games\, food\, beer\, prizes\, and more! Event kicks off at 2pm sharp.</span><br />\n<br />\n<span class="fsl">MUSIC: Live music from several local musicians\, including Daniel and the Real Feels\, The Boys\, Dandy Andy\, Greg Stumbo and the Jennys\, and more. Feel free to bring your own instruments for a community &quot\;jam&quot\; session following the show!<br />\n<br />\nFOOD: Homemade Beer Cheese soup (featuring our &quot\;house&quot\; Traveler IPA\, of course!)\, hot and soft brick-oven pretzels\, pumpkin pie\, hot apple cider\, and our featured &quot\;Oktoberfest&quot\; celebration pizza\, the Berlin Bratwurst! Other &quot\;Fall&quot\; foods to be announced day of event.<br />\n<br />\nBEER: We are thrilled to<span class="text_exposed_hide">...</span><span class="text_exposed_show"> be debuting Fargo Brewing Co.&#39\;s &quot\;Brunch Buster&quot\; coffee porter\, a collaboration with Fergus Falls&#39\; very own Stumbeano&#39\;s Coffee Co. Pitchers of Minnesota Gold lager and Surly Hell available!<br />\n<br />\nGAMES: Fun for the whole family! We will be hosting a bean bags (aka &quot\;Cornhole&quot\;) tournament and will set up Pumpkin Bowling in the back alley. Prizes to be awarded! At 3:00 we will host a Magic the Gathering tournament\, as well\, so bring your best deck!<br />\n<br />\nSo come on in on to warm up with hot soup\, hot cider\, live jams\, brick oven pizza\, new beers\, and new friends. While this event goes from 2-6pm\, we will remain open regular business hours\, &#39\;til 10pm. Please share this event with your friends and family\, and we&#39\;ll see you Saturday!</span></span></div>\n
LOCATION:Union Pizza & Brewing CO. 114 S Union Ave\, Fergus Falls
UID:e.314.25078
SEQUENCE:3
DTSTAMP:20260426T030528Z
URL:https://business.fergusfalls.com/events/details/harvest-fest-fergus-falls-union-pizza-brewing-co-10-17-2015-25078
END:VEVENT

END:VCALENDAR
