BEGIN:VCALENDAR
VERSION:2.0
PRODID:-//ChamberMaster//Event Calendar 2.0//EN
METHOD:PUBLISH
X-PUBLISHED-TTL:P3D
REFRESH-INTERVAL:P3D
CALSCALE:GREGORIAN
BEGIN:VEVENT
DTSTART:20171028T000000Z
DTEND:20171028T013000Z
X-MICROSOFT-CDO-ALLDAYEVENT:FALSE
SUMMARY:Haunted Museum - OTCHS
DESCRIPTION:Disorderly resorts crazed magicians public executions. Fake news? Not on your life. These are true stories from actual events that will be told at the Otter Tail County Historical Society's Haunted Museum on Friday\, October 27\, at 7 p.m.\n\n\n\nHalloween allows the historical society to revisit some of Otter Tail County's most notorious people and events. The county's history is filled with stories that are shocking\, spine tingling and bizarre. Taken directly from local historical accounts\, readers will present stories of grisly murders\, weird events and other blood-curdling tales. Since many of the stories have become the stuff of legend\, the truth has often been obscured. The Haunted Museum is an opportunity to go beyond the rumors to get the true gory details.\n\n\n\nDo you know what really happened on the pig farm? Come and find out.
X-ALT-DESC;FMTTYPE=text/html:<span class="_4n-j _3cht fsl" data-testid="event-permalink-details">Disorderly resorts&hellip\;crazed magicians&hellip\;public executions. Fake news? Not on your life. These are true stories from actual events that will be told at the Otter Tail County Historical Society&rsquo\;s Haunted Museum on Friday\, October 27\, at 7 p.m.<br />\n<br />\nHalloween allows the historical society to revisit some of Otter Tail County&rsquo\;s most notorious people and events. The county&rsquo\;s history is filled with stories that are shocking\, spine tingling and bizarre. Taken directly from local historical accounts\, readers will present stories of grisly murders\, weird events and other blood-curdling tales. Since many of the stories have become the stuff of legend\, the truth has often been obscured. The Haunted Museum is an opportunity to go beyond the rumors to get the true gory details.<br />\n<br />\nDo you know what really happened on the pig farm? Come and find out.</span>
LOCATION:OTCHS 1110 W Lincoln Ave Fergus Falls
UID:e.314.42893
SEQUENCE:3
DTSTAMP:20260424T092309Z
URL:https://business.fergusfalls.com/events/details/haunted-museum-otchs-42893
END:VEVENT

END:VCALENDAR
