BEGIN:VCALENDAR
VERSION:2.0
PRODID:-//ChamberMaster//Event Calendar 2.0//EN
METHOD:PUBLISH
X-PUBLISHED-TTL:P3D
REFRESH-INTERVAL:P3D
CALSCALE:GREGORIAN
BEGIN:VEVENT
DTSTART:20171124T180000Z
DTEND:20171125T180000Z
X-MICROSOFT-CDO-ALLDAYEVENT:FALSE
SUMMARY:HD Boutique Black Friday & Small Business Saturday
DESCRIPTION:Stay tuned for all the fun details for Black Friday & Small Business Saturday at HD. You don't want to miss this...and you'll want to be here early!
X-ALT-DESC;FMTTYPE=text/html:<span style="color: rgb(75\, 79\, 86)\; text-transform: none\; text-indent: 0px\; letter-spacing: normal\; font-family: Helvetica\, Arial\, sans-serif\; font-size: 14px\; font-style: normal\; font-weight: 400\; word-spacing: 0px\; float: none\; display: inline !important\; white-space: normal\; orphans: 2\; widows: 2\; background-color: rgb(255\, 255\, 255)\; font-variant-ligatures: normal\; font-variant-caps: normal\; -webkit-text-stroke-width: 0px\; text-decoration-style: initial\; text-decoration-color: initial\;">Stay tuned for all the fun details for Black Friday &amp\; Small Business Saturday at HD. You don&#39\;t want to miss this...and you&#39\;ll want to be here early!</span>
LOCATION:HD Boutique 216 W Lincoln Ave
UID:e.314.43088
SEQUENCE:3
DTSTAMP:20260424T093152Z
URL:https://business.fergusfalls.com/events/details/hd-boutique-black-friday-small-business-saturday-43088
END:VEVENT

END:VCALENDAR
