BEGIN:VCALENDAR
VERSION:2.0
PRODID:-//ChamberMaster//Event Calendar 2.0//EN
METHOD:PUBLISH
X-PUBLISHED-TTL:P3D
REFRESH-INTERVAL:P3D
CALSCALE:GREGORIAN
BEGIN:VEVENT
DTSTART;VALUE=DATE:20161125
DTEND;VALUE=DATE:20161127
TRANSP:TRANSPARENT
X-MICROSOFT-CDO-ALLDAYEVENT:TRUE
SUMMARY:HD Boutique Black Friday & Small Business Saturday Sales!
DESCRIPTION:Some great deals at HD on Black Friday.....\n\n**30% off Last Chance Rack AND 25% off all coats and vests**\n\n\n\n{LOTS of new arrivals to check out too}\n\n\n\nCheck out our Facebook page for updates on Black Friday & Small Business Saturday Sales!
X-ALT-DESC;FMTTYPE=text/html:Some great deals at HD on Black Friday.....<br />\n**30% off Last Chance Rack AND 25% off all coats and vests**<br />\n<br />\n{LOTS of new arrivals to check out too}<br />\n<br />\n<a href="http://www.facebook.com/hdboutiquestore/">Check out our Facebook page for updates on Black Friday &amp\; Small Business Saturday Sales! </a><br />\n&nbsp\;
LOCATION:
UID:e.314.36999
SEQUENCE:3
DTSTAMP:20260425T041321Z
URL:https://business.fergusfalls.com/events/details/hd-boutique-black-friday-small-business-saturday-sales-36999
END:VEVENT

END:VCALENDAR
