BEGIN:VCALENDAR
VERSION:2.0
PRODID:-//ChamberMaster//Event Calendar 2.0//EN
METHOD:PUBLISH
X-PUBLISHED-TTL:P3D
REFRESH-INTERVAL:P3D
CALSCALE:GREGORIAN
BEGIN:VEVENT
DTSTART:20160729T150000Z
DTEND:20160729T220000Z
X-MICROSOFT-CDO-ALLDAYEVENT:FALSE
SUMMARY:HD Boutique Summer Sale
DESCRIPTION:Save 30% on Shorts\, Tanks\, Dresses
X-ALT-DESC;FMTTYPE=text/html:Save 30% on Shorts\, Tanks\, Dresses
LOCATION:HD Boutique 216 W. Lincoln Ave. Downtown Fergus Falls
UID:e.314.33016
SEQUENCE:3
DTSTAMP:20260425T125926Z
URL:https://business.fergusfalls.com/events/details/hd-boutique-summer-sale-07-29-2016-33016
END:VEVENT

END:VCALENDAR
