BEGIN:VCALENDAR
VERSION:2.0
PRODID:-//ChamberMaster//Event Calendar 2.0//EN
METHOD:PUBLISH
X-PUBLISHED-TTL:P3D
REFRESH-INTERVAL:P3D
CALSCALE:GREGORIAN
BEGIN:VEVENT
DTSTART:20180420T213000Z
DTEND:20180420T233000Z
X-MICROSOFT-CDO-ALLDAYEVENT:FALSE
SUMMARY:Healthy Kid's Day
DESCRIPTION:Activities include:\n\n\n\nKIDS' BIKE RODEO\n\n    -Get a bike check up\n\n    -Ride through a fun obstacle course\n\n    -Get your helmet professionally fitted or receive a free helmet from Helmets for Kids\n\n    -Register to win a bike!\n\n\n\nBOUNCE HOUSE\n\nPLANTING SEEDS\n\nOBSTACLE COURSE\n\nFRUIT WALK\n\nOTHER GAMES AND ACTIVITIES
X-ALT-DESC;FMTTYPE=text/html:<span style="font-family:verdana">Activities include:<br />\n<br />\n<strong>KIDS&#39\; BIKE RODEO</strong><br />\n&nbsp\;&nbsp\;&nbsp\;&nbsp\;-Get a bike check up<br />\n&nbsp\;&nbsp\;&nbsp\;&nbsp\;-Ride through a fun obstacle course<br />\n&nbsp\;&nbsp\;&nbsp\;&nbsp\;-Get your helmet professionally fitted or receive a free helmet from Helmets for Kids<br />\n&nbsp\;&nbsp\;&nbsp\;&nbsp\;-Register to win a bike!<br />\n<br />\n<strong>BOUNCE HOUSE<br />\nPLANTING SEEDS<br />\nOBSTACLE COURSE<br />\nFRUIT WALK<br />\nOTHER GAMES AND ACTIVITIES</strong></span>
LOCATION:Fergus Falls Area Family YMCA 1164 North Friberg Ave. Fergus Falls\, MN 56537
UID:e.314.32334
SEQUENCE:3
DTSTAMP:20260423T235437Z
URL:https://business.fergusfalls.com/events/details/healthy-kid-s-day-04-29-2016-32334
END:VEVENT

END:VCALENDAR
