BEGIN:VCALENDAR
VERSION:2.0
PRODID:-//ChamberMaster//Event Calendar 2.0//EN
METHOD:PUBLISH
X-PUBLISHED-TTL:P3D
REFRESH-INTERVAL:P3D
CALSCALE:GREGORIAN
BEGIN:VEVENT
DTSTART:20191214T153000Z
DTEND:20191214T174500Z
X-MICROSOFT-CDO-ALLDAYEVENT:FALSE
SUMMARY:Hillcrest Comet Buddies Basketball
DESCRIPTION:REGISTER FOR COMET BUDDIES 2019-20 WINTER SESSION
X-ALT-DESC;FMTTYPE=text/html:REGISTER FOR COMET BUDDIES 2019-20 WINTER SESSION
LOCATION:Hillcrest Lutheran Academy Student Activities Center 610 Hillcrest Drive Fergus Falls\, MN 56537
UID:e.314.55989
SEQUENCE:3
DTSTAMP:20260422T172033Z
URL:https://business.fergusfalls.com/events/details/hillcrest-comet-buddies-basketball-55989
END:VEVENT

END:VCALENDAR
