BEGIN:VCALENDAR
VERSION:2.0
PRODID:-//ChamberMaster//Event Calendar 2.0//EN
METHOD:PUBLISH
X-PUBLISHED-TTL:P3D
REFRESH-INTERVAL:P3D
CALSCALE:GREGORIAN
BEGIN:VEVENT
DTSTART:20171007T000000Z
DTEND:20171007T010000Z
X-MICROSOFT-CDO-ALLDAYEVENT:FALSE
SUMMARY:Hillcrest Homecoming Football Game
DESCRIPTION:Football Game vs. Bertha/Hewitt: Home - V (Homecoming Game)\n			\n\n			Fri 10/06/2017 - 7:00 pm to 8:00 pm
X-ALT-DESC;FMTTYPE=text/html:<table style="border-width: 0px\; width: 987px\; text-align: center\; color: rgb(0\, 0\, 0)\; text-transform: none\; text-indent: 0px\; letter-spacing: normal\; font-family: Roboto\, sans-serif\; font-size: 13.33px\; font-style: normal\; font-weight: normal\; word-spacing: 0px\; white-space: normal\; border-spacing: 0px\; orphans: 2\; widows: 2\; background-color: rgb(255\, 255\, 255)\; font-variant-ligatures: normal\; font-variant-caps: normal\; -webkit-text-stroke-width: 0px\; text-decoration-style: initial\; text-decoration-color: initial\;">\n	<tbody>\n		<tr>\n			<td itemscope="" itemtype="http://schema.org/Event" style="padding: 0px\; width: 790px\; text-align: left\; vertical-align: top\;">\n			<div class="new_event_details_title" style="text-align: left\; color: rgb(153\, 30\, 30)\; font-family: Roboto\, sans-serif\; font-size: 30px\; font-weight: 500\;">\n			<h1 style="margin: 0px\; padding: 0px\; font-size: 1em\; font-weight: inherit\; display: inline-block\;"><span itemprop="name">Football Game vs. Bertha/Hewitt: Home - V (Homecoming Game)</span></h1>\n			</div>\n\n			<div class="new_event_details_dates_times" style="margin: 15px 0px\; text-align: left\; color: rgb(37\, 39\, 44)\; letter-spacing: normal\; font-family: Roboto\, sans-serif\; font-size: 20px\; font-weight: normal\; text-decoration: none\;"><a href="https://hillcrest.tandem.co/index.php?type=view&amp\;action=day&amp\;cur_month=10&amp\;cur_day=6&amp\;cur_year=2017" style="text-align: left\; color: rgb(37\, 39\, 44)\; letter-spacing: normal\; font-family: Roboto\, sans-serif\; font-size: 20px\; font-weight: normal\; text-decoration: none\;">Fri 10/06/2017</a><span>&nbsp\;</span>- 7:00 pm to 8:00 pm</div>\n			</td>\n		</tr>\n	</tbody>\n</table>\n
LOCATION:610 Hillcrest Dr Fergus Falls\, MN 56537
UID:e.314.42829
SEQUENCE:3
DTSTAMP:20260424T092951Z
URL:https://business.fergusfalls.com/events/details/hillcrest-homecoming-football-game-42829
END:VEVENT

END:VCALENDAR
