BEGIN:VCALENDAR
VERSION:2.0
PRODID:-//ChamberMaster//Event Calendar 2.0//EN
METHOD:PUBLISH
X-PUBLISHED-TTL:P3D
REFRESH-INTERVAL:P3D
CALSCALE:GREGORIAN
BEGIN:VEVENT
DTSTART:20200226T003000Z
DTEND:20200226T020000Z
X-MICROSOFT-CDO-ALLDAYEVENT:FALSE
SUMMARY:Hillcrest Open House
DESCRIPTION:Attendees will be entered into a drawing for a free semester of tuition at Hillcrest. This year we will be drawing for 4 different winners! There will be door-prizes as well.\n\n\n\nThe open house will communicate how students significantly benefit from a faith-based education that links knowledge and virtue. Attendees will learn about Hillcrest's program\, walking through a brief class schedule to meet instructors and hear their approach to their disciplines. Students will also hear how Hillcrest faculty equip students for college and foster faith-formation in each class and every extra-curricular activity.\n\n\n\n\n\nWays to enter into the drawing:\n\n\n\nRegister online for 1 entry. https://www.ffhillcrest.org/openhouse\n\n\n\nRe-enroll your student before February 25th for 2 more entries.\n\n\n\nReceive as many extra entries as the number of people that attend with you. i.e. a family of 4 will get entered 4 times.\n\n\n\nMUST BE PRESENT TO WIN
X-ALT-DESC;FMTTYPE=text/html:<span>Attendees will be entered into a drawing for a free semester of tuition at Hillcrest. This year we will be drawing for 4 different winners! There will be door-prizes as well.<br />\n<br />\nThe open house will communicate how students significantly benefit from a faith-based education that links knowledge and virtue. Attendees will learn about Hillcrest&rsquo\;s program\, walking through a brief class schedule to meet instructors and hear their approach to their disciplines. Students will also hear how Hillcrest faculty equip students for college and foster faith-formation in each class and every extra-curricular activity.<br />\n<br />\n<br />\nWays to enter into the drawing:<br />\n<br />\nRegister online for 1 entry. <a data-lynx-mode="hover" data-lynx-uri="https://l.facebook.com/l.php?u=https%3A%2F%2Fwww.ffhillcrest.org%2Fopenhouse%3Ffbclid%3DIwAR0dZ1VsNPfW_U-9_t9oJuEZuGdkBEvT5P0uoM_SRiNvlHSrB8ThC8nkjBg&amp\;h=AT2IOcisyebajDryzxtPl6PTvGiXJGZCyxwEI7tumrIPJF71S99s1py3JQiuGG2P--b6PI0WUVn2lOPjdjvuDuyIWe9RZTSiuHRvrXubjeilOwWo12FMuw3L4DN3sCXHbw" href="https://www.ffhillcrest.org/openhouse?fbclid=IwAR0dZ1VsNPfW_U-9_t9oJuEZuGdkBEvT5P0uoM_SRiNvlHSrB8ThC8nkjBg" rel="nofollow" target="_blank"><font color="#0066cc">https://www.ffhillcrest.org/openhouse</font></a><br />\n<br />\nRe-enroll your student before February 25th for 2 more entries.<br />\n<br />\nReceive as many extra entries as the number of people that attend with you. i.e. a family of 4 will get entered 4 times.<br />\n<br />\nMUST BE PRESENT TO WIN</span>
LOCATION:Hillcrest Academy 610 Hillcrest Dr\, Fergus Falls
UID:e.314.56209
SEQUENCE:3
DTSTAMP:20260422T142359Z
URL:https://business.fergusfalls.com/events/details/hillcrest-open-house-56209
END:VEVENT

END:VCALENDAR
