BEGIN:VCALENDAR
VERSION:2.0
PRODID:-//ChamberMaster//Event Calendar 2.0//EN
METHOD:PUBLISH
X-PUBLISHED-TTL:P3D
REFRESH-INTERVAL:P3D
CALSCALE:GREGORIAN
BEGIN:VEVENT
DTSTART:20190519T010000Z
DTEND:20190519T023000Z
X-MICROSOFT-CDO-ALLDAYEVENT:FALSE
SUMMARY:Hillcrest Worship Collective Night of Praise
DESCRIPTION:A worship event for the community! Our student worship team will be closing out the school year by hosting a night of praise and worship in the Student Activity Center. We hope you can join us!\n\n\n\nDoors Open @ 7:30pm\n\nMusic @ 8pm
X-ALT-DESC;FMTTYPE=text/html:<div class="_63ew" data-testid="event-permalink-details"><span>A worship event for the community! Our student worship team will be closing out the school year by hosting a night of praise and worship in the Student Activity Center. We hope you can join us!<br />\n<br />\nDoors Open @ 7:30pm<br />\nMusic @ 8pm</span></div>\n
LOCATION:Hillcrest Academy 610 Hillcrest Dr\, Fergus Falls\, Minnesota 56537
UID:e.314.53961
SEQUENCE:3
DTSTAMP:20260423T050655Z
URL:https://business.fergusfalls.com/events/details/hillcrest-worship-collective-night-of-praise-53961
END:VEVENT

END:VCALENDAR
