BEGIN:VCALENDAR
VERSION:2.0
PRODID:-//ChamberMaster//Event Calendar 2.0//EN
METHOD:PUBLISH
X-PUBLISHED-TTL:P3D
REFRESH-INTERVAL:P3D
CALSCALE:GREGORIAN
BEGIN:VEVENT
DTSTART:20160517T210000Z
DTEND:20160517T220000Z
X-MICROSOFT-CDO-ALLDAYEVENT:FALSE
SUMMARY:Hinge Arts Meet & Greet: Susan Lenz at Mabel Murphy's
DESCRIPTION:Hinge Arts Meet & Greet: Susan Lenz hosted by Springboard for the Arts - Lake Region \n\nWe have a new artist arriving with us next week! Susan Lenz!\n\nPlease come and join us at Mabel Murphy's on Tuesday May 17\, 4PM-5PM to welcome Susan to Hinge Arts this will be her first time to Fergus Falls! Let's give her a warm Welcome!\n\n\n\nSusan is a visual artist using found objects for self-expression\, Columbia\, SC artist Susan Lenz works in partnership with her materials\, their purposes\, values and familiar associations. Susan generally uses a needle and thread to articulate the accumulated memory inherent in these discarded things. She stitches both by hand and machine as means to communicate themes of memory and mortality. While at Hinge Arts\, Susan will be creating artist books using anonymous photos\, snippets of handwritten letters\, old postage stamps\, and ephemera salvaged from yard sales and auctions. Her work has been seen internationally in solo shows and juried exhibitions. \n\n\n\nCheck out her website here! http://www.susanlenz.com/
X-ALT-DESC;FMTTYPE=text/html:Hinge Arts Meet &amp\; Greet: Susan Lenz&nbsp\;hosted by Springboard for the Arts - Lake Region&nbsp\;<br />\n<span style="color: rgb(75\, 79\, 86)\; font-family: helvetica\, arial\, sans-serif\; font-size: 14px\; line-height: 18.76px\; background-color: rgb(255\, 255\, 255)\;">We have a new artist arriving with us next week! Susan Lenz!</span><br style="color: rgb(75\, 79\, 86)\; font-family: helvetica\, arial\, sans-serif\; font-size: 14px\; line-height: 18.76px\; background-color: rgb(255\, 255\, 255)\;" />\n<span style="color: rgb(75\, 79\, 86)\; font-family: helvetica\, arial\, sans-serif\; font-size: 14px\; line-height: 18.76px\; background-color: rgb(255\, 255\, 255)\;">Please come and join us at Mabel Murphy&#39\;s on Tuesday May 17\, 4PM-5PM to welcome Susan to Hinge Arts this will be her first time to Fergus Falls! Let&#39\;s give her a warm Welcome!</span><br style="color: rgb(75\, 79\, 86)\; font-family: helvetica\, arial\, sans-serif\; font-size: 14px\; line-height: 18.76px\; background-color: rgb(255\, 255\, 255)\;" />\n<br style="color: rgb(75\, 79\, 86)\; font-family: helvetica\, arial\, sans-serif\; font-size: 14px\; line-height: 18.76px\; background-color: rgb(255\, 255\, 255)\;" />\n<span style="color: rgb(75\, 79\, 86)\; font-family: helvetica\, arial\, sans-serif\; font-size: 14px\; line-height: 18.76px\; background-color: rgb(255\, 255\, 255)\;">Susan is a visual artist using found objects for self-expression\, Columbia\, SC artist Susan Lenz works in partnership with her materials\, their purposes\, values and familiar associations. Susan generally uses a needle and thread to articulate the accumulated memory inherent in these discarded things. She stitches both by hand and machine as means to communicate themes of memory and mortality. While at Hinge Arts\, Susan will be creating artist books using anonymous photos\, snippets of handwritten letters\, old postage stamps\, and ephemera salvaged from yard sales and auctions. Her work has been seen internationally in solo shows and juried exhibitions.&nbsp\;</span><br style="color: rgb(75\, 79\, 86)\; font-family: helvetica\, arial\, sans-serif\; font-size: 14px\; line-height: 18.76px\; background-color: rgb(255\, 255\, 255)\;" />\n<br style="color: rgb(75\, 79\, 86)\; font-family: helvetica\, arial\, sans-serif\; font-size: 14px\; line-height: 18.76px\; background-color: rgb(255\, 255\, 255)\;" />\n<span style="color: rgb(75\, 79\, 86)\; font-family: helvetica\, arial\, sans-serif\; font-size: 14px\; line-height: 18.76px\; background-color: rgb(255\, 255\, 255)\;">Check out her website here!&nbsp\;</span><a href="http://www.susanlenz.com/" rel="nofollow nofollow" style="color: rgb(54\, 88\, 153)\; cursor: pointer\; text-decoration: none\; font-family: helvetica\, arial\, sans-serif\; font-size: 14px\; line-height: 18.76px\; background-color: rgb(255\, 255\, 255)\;" target="_blank">http://www.susanlenz.com/</a><span style="color: rgb(75\, 79\, 86)\; font-family: helvetica\, arial\, sans-serif\; font-size: 14px\; line-height: 18.76px\; background-color: rgb(255\, 255\, 255)\;">&nbsp\;</span>
LOCATION:pin Hide Map Mabel Murphy's 3401 State Highway 210 W\, Fergus Falls\, Minnesota 56537
UID:e.314.32706
SEQUENCE:3
DTSTAMP:20260425T145954Z
URL:https://business.fergusfalls.com/events/details/hinge-arts-meet-greet-susan-lenz-at-mabel-murphy-s-05-17-2016-32706
END:VEVENT

END:VCALENDAR
