BEGIN:VCALENDAR
VERSION:2.0
PRODID:-//ChamberMaster//Event Calendar 2.0//EN
METHOD:PUBLISH
X-PUBLISHED-TTL:P3D
REFRESH-INTERVAL:P3D
CALSCALE:GREGORIAN
BEGIN:VEVENT
DTSTART:20210714T160000Z
DTEND:20210714T180000Z
X-MICROSOFT-CDO-ALLDAYEVENT:FALSE
SUMMARY:Hiring Event & Picnic at PioneerCare
DESCRIPTION:What's it like to join the PioneerCare team of all-stars? We're hosting a Hiring Event & Picnic from 11 am to 1 pm on Wednesday\, July 14 outdoors at PioneerCare Center. We're inviting prospective employees to check us out\, have lunch on us (burgers\, brats\, and more)\, meet real Pioneer employees (not actors)\, apply for open positions to get a chance to win tickets and gas money to a Minnesota Twins game\, and have on-the-spot interviews. Baseball\, hotdogs\, apple pie\, and PioneerCare: the perfect summer day in America!\n\n\n\nClose to 40 percent of jobs at PioneerCare require little or no previous experience or degree. For many people\, that means we open the door for entry into the healthcare field. In healthcare\, the most important thing is that you have a big heart. Step up to the plate: join our team as a homemaker\, caregiver\, nursing assistant\, or other important position at PioneerCare.\n\n\n\nWe're also hiring nurses for both full and part time positions. If you can't make the picnic\, check us out and apply online. PioneerCare is an equal opportunity provider and employer.
X-ALT-DESC;FMTTYPE=text/html:<span style="font-size:12px"><span style="font-family:arial\,helvetica\,sans-serif">What&rsquo\;s it like to join the PioneerCare team of all-stars? We&#39\;re hosting a Hiring Event &amp\; Picnic from 11 am to 1 pm on Wednesday\, July 14 outdoors at PioneerCare Center. We&rsquo\;re inviting prospective employees to check us out\, have lunch on us (burgers\, brats\, and more)\, meet real Pioneer employees (not actors)\, apply for open positions to get a chance to win tickets and gas money to a Minnesota Twins game\, and have on-the-spot interviews. Baseball\, hotdogs\, apple pie\, and PioneerCare: the perfect summer day in America!<br />\n<br />\nClose to 40 percent of jobs at PioneerCare require little or no previous experience or degree. For many people\, that means we open the door for entry into the healthcare field.&nbsp\;<span style="color:rgb(60\, 59\, 65)">In healthcare\, the most important thing is that you have a big heart. Step up to the plate: join our team as a homemaker\, caregiver\, nursing assistant\, or other important position at PioneerCare.<br />\n<br />\nWe&#39\;re also hiring nurses for both full and part time positions. If you can&#39\;t make the picnic\, <a href="http://pioneercare.org/careers">check us out and apply online</a>. PioneerCare is an equal opportunity provider and employer.</span></span></span><br />\n&nbsp\;
LOCATION:PioneerCare Center 1131 Mabelle Avenue South Fergus Falls\, MN 56537
UID:e.314.62443
SEQUENCE:3
DTSTAMP:20260421T112012Z
URL:https://business.fergusfalls.com/events/details/hiring-event-picnic-at-pioneercare-62443
END:VEVENT

END:VCALENDAR
