BEGIN:VCALENDAR
VERSION:2.0
PRODID:-//ChamberMaster//Event Calendar 2.0//EN
METHOD:PUBLISH
X-PUBLISHED-TTL:P3D
REFRESH-INTERVAL:P3D
CALSCALE:GREGORIAN
BEGIN:VEVENT
DTSTART:20170321T160000Z
DTEND:20170322T010000Z
X-MICROSOFT-CDO-ALLDAYEVENT:FALSE
SUMMARY:Hockey Association Gift Card Fundraiser
DESCRIPTION:Dairy Land will donate $5.00 for every $25.00 gift card purchased to the Fergus Falls Hockey Association. Please mention you would like to purchase the gift card to support hockey. Gift card cannot be used at time of purchase
X-ALT-DESC;FMTTYPE=text/html:Dairy Land will donate $5.00 for every $25.00 gift card purchased to the Fergus Falls Hockey Association. Please mention you would like to purchase the gift card to support hockey. Gift card cannot be used at time of purchase
LOCATION:Dairy Land Fergus Falls
UID:e.314.38784
SEQUENCE:3
DTSTAMP:20260424T210517Z
URL:https://business.fergusfalls.com/events/details/hockey-association-gift-card-fundraiser-03-21-2017-38784
END:VEVENT

END:VCALENDAR
