BEGIN:VCALENDAR
VERSION:2.0
PRODID:-//ChamberMaster//Event Calendar 2.0//EN
METHOD:PUBLISH
X-PUBLISHED-TTL:P3D
REFRESH-INTERVAL:P3D
CALSCALE:GREGORIAN
BEGIN:VEVENT
DTSTART;VALUE=DATE:20171118
DTEND;VALUE=DATE:20171119
TRANSP:TRANSPARENT
X-MICROSOFT-CDO-ALLDAYEVENT:TRUE
SUMMARY:Hockey Dining out at Fiesta Brava
DESCRIPTION:Dining out Fundraising at Fiesta Brava. November 18th\, all day. FFHA will earn 15% from daily sales! Show up and have a good meal! Thank you
X-ALT-DESC;FMTTYPE=text/html:Dining out Fundraising at Fiesta Brava. November 18th\, all day. FFHA will earn 15% from daily sales! Show up and have a good meal! Thank you
LOCATION:
UID:e.314.41316
SEQUENCE:3
DTSTAMP:20260424T074343Z
URL:https://business.fergusfalls.com/events/details/hockey-dining-out-at-fiesta-brava-41316
END:VEVENT

END:VCALENDAR
