BEGIN:VCALENDAR
VERSION:2.0
PRODID:-//ChamberMaster//Event Calendar 2.0//EN
METHOD:PUBLISH
X-PUBLISHED-TTL:P3D
REFRESH-INTERVAL:P3D
CALSCALE:GREGORIAN
BEGIN:VEVENT
DTSTART;VALUE=DATE:20171114
DTEND;VALUE=DATE:20171115
TRANSP:TRANSPARENT
X-MICROSOFT-CDO-ALLDAYEVENT:TRUE
SUMMARY:Hockey Dining out at Mabel Murphy's
DESCRIPTION:Mabel Murphy's will donate 10% of all proceeds for food and beverage during the day to FFHA. All you do is show up and eat! Thank you!
X-ALT-DESC;FMTTYPE=text/html:Mabel Murphy&#39\;s will donate 10% of all proceeds for food and beverage during the day to FFHA. All you do is show up and eat! Thank you!
LOCATION:Mabel Murphy's
UID:e.314.41315
SEQUENCE:3
DTSTAMP:20260424T074100Z
URL:https://business.fergusfalls.com/events/details/hockey-dining-out-at-mabel-murphy-s-41315
END:VEVENT

END:VCALENDAR
