BEGIN:VCALENDAR
VERSION:2.0
PRODID:-//ChamberMaster//Event Calendar 2.0//EN
METHOD:PUBLISH
X-PUBLISHED-TTL:P3D
REFRESH-INTERVAL:P3D
CALSCALE:GREGORIAN
BEGIN:VEVENT
DTSTART:20171013T140000Z
DTEND:20171014T020000Z
X-MICROSOFT-CDO-ALLDAYEVENT:FALSE
SUMMARY:Hockey Dining out At Perkins
DESCRIPTION:Fergus Falls Hockey Dining out fundraising Perkins will donate 20% of proceeds to FFHA. All you do is show up and eat.
X-ALT-DESC;FMTTYPE=text/html:Fergus Falls Hockey Dining out fundraising Perkins will donate 20% of proceeds to FFHA. All you do is show up and eat.
LOCATION:
UID:e.314.41311
SEQUENCE:3
DTSTAMP:20260424T092542Z
URL:https://business.fergusfalls.com/events/details/hockey-dining-out-at-perkins-41311
END:VEVENT

END:VCALENDAR
