BEGIN:VCALENDAR
VERSION:2.0
PRODID:-//ChamberMaster//Event Calendar 2.0//EN
METHOD:PUBLISH
X-PUBLISHED-TTL:P3D
REFRESH-INTERVAL:P3D
CALSCALE:GREGORIAN
BEGIN:VEVENT
DTSTART;VALUE=DATE:20171021
DTEND;VALUE=DATE:20171022
TRANSP:TRANSPARENT
X-MICROSOFT-CDO-ALLDAYEVENT:TRUE
SUMMARY:Hockey Dining out at Socials Bar and Grill
DESCRIPTION:Socials will donate 20% to FFHA for a dining out fundraiser All you do is show up to eat!
X-ALT-DESC;FMTTYPE=text/html:Socials will donate 20% to FFHA for a dining out fundraiser All you do is show up to eat!
LOCATION:
UID:e.314.41312
SEQUENCE:3
DTSTAMP:20260424T093122Z
URL:https://business.fergusfalls.com/events/details/hockey-dining-out-at-socials-bar-and-grill-41312
END:VEVENT

END:VCALENDAR
