BEGIN:VCALENDAR
VERSION:2.0
PRODID:-//ChamberMaster//Event Calendar 2.0//EN
METHOD:PUBLISH
X-PUBLISHED-TTL:P3D
REFRESH-INTERVAL:P3D
CALSCALE:GREGORIAN
BEGIN:VEVENT
DTSTART;VALUE=DATE:20171028
DTEND;VALUE=DATE:20171029
TRANSP:TRANSPARENT
X-MICROSOFT-CDO-ALLDAYEVENT:TRUE
SUMMARY:Hockey Dining out at Subway
DESCRIPTION:All day at both Subways in Fergus Falls! Subway will donate $1 per 12" and .50 per 6" sold to FFHA! All you need to do is show up and eat!
X-ALT-DESC;FMTTYPE=text/html:All day at both Subways in Fergus Falls! Subway will donate $1 per 12&quot\; and .50 per 6&quot\; sold to FFHA! All you need to do is show up and eat!
LOCATION:Both Fergus Falls Subways.
UID:e.314.41313
SEQUENCE:3
DTSTAMP:20260424T092541Z
URL:https://business.fergusfalls.com/events/details/hockey-dining-out-at-subway-41313
END:VEVENT

END:VCALENDAR
