BEGIN:VCALENDAR
VERSION:2.0
PRODID:-//ChamberMaster//Event Calendar 2.0//EN
METHOD:PUBLISH
X-PUBLISHED-TTL:P3D
REFRESH-INTERVAL:P3D
CALSCALE:GREGORIAN
BEGIN:VEVENT
DTSTART;VALUE=DATE:20181215
DTEND;VALUE=DATE:20181216
TRANSP:TRANSPARENT
X-MICROSOFT-CDO-ALLDAYEVENT:TRUE
SUMMARY:Holiday Art and Artisan Market and Gift Boutique
DESCRIPTION:The best in local gifting! Shop local artists and artisans this season at our second annual Holiday Art and Artisan Market and Gift Boutique held every weekend between Thanksgiving and Christmas at Cascade Street Station. Fridays 3-8pm Saturdays 11-8pm Sundays Noon-4pm We will also be open special hours on Christmas Eve 10am-2pm for your last minute gift needs. Find art both fine and handcrafted made by local artisans as well as a women?s boutique. Handwoven shawls\, runners and rugs Wool mittens Soft goods and seasonal home decor Fine art from the hands of many area artists including originals\, prints and cards Handcrafted soaps made on site Handmade jewelry - beaded bracelets\, leather goods\, earrings\, gemstone necklaces Handcrafted candles Fused glass Holiday ornaments and decor Artisan chocolates And so much more... Come see the beautiful renovation work on this historic gem in Fergus Falls. Enjoy a meal in the on-site restaurant or sip a glass of wine or your favorite winter cocktail while you shop. Support local makers and gift locally created art this season.
X-ALT-DESC;FMTTYPE=text/html:The best in local gifting! Shop local artists and artisans this season at our second annual Holiday Art and Artisan Market and Gift Boutique held every weekend between Thanksgiving and Christmas at Cascade Street Station. Fridays 3-8pm Saturdays 11-8pm Sundays Noon-4pm We will also be open special hours on Christmas Eve 10am-2pm for your last minute gift needs. Find art both fine and handcrafted made by local artisans as well as a women?s boutique. Handwoven shawls\, runners and rugs Wool mittens Soft goods and seasonal home decor Fine art from the hands of many area artists including originals\, prints and cards Handcrafted soaps made on site Handmade jewelry - beaded bracelets\, leather goods\, earrings\, gemstone necklaces Handcrafted candles Fused glass Holiday ornaments and decor Artisan chocolates And so much more... Come see the beautiful renovation work on this historic gem in Fergus Falls. Enjoy a meal in the on-site restaurant or sip a glass of wine or your favorite winter cocktail while you shop. Support local makers and gift locally created art this season.
LOCATION:Cascade Street Station 423 South Cascade St\, Fergus Falls\, Mn 56537
UID:e.314.52036
SEQUENCE:3
DTSTAMP:20260423T122951Z
URL:https://business.fergusfalls.com/events/details/holiday-art-and-artisan-market-and-gift-boutique-12-15-2018-52036
END:VEVENT

END:VCALENDAR
