BEGIN:VCALENDAR
VERSION:2.0
PRODID:-//ChamberMaster//Event Calendar 2.0//EN
METHOD:PUBLISH
X-PUBLISHED-TTL:P3D
REFRESH-INTERVAL:P3D
CALSCALE:GREGORIAN
BEGIN:VEVENT
DTSTART:20191214T160000Z
DTEND:20191215T000000Z
X-MICROSOFT-CDO-ALLDAYEVENT:FALSE
SUMMARY:Holiday art & artisan Market
DESCRIPTION:In its third year\, the annual Holiday Art and Artisan Market is moving downtown Fergus Falls to a larger location that will enable us to host even more makers. We are excited for this season's market and are looking forward to our opening day\, November 23\, 2019.\n\nWe are located at 125 West Lincoln Ave in Fergus Falls\, MN. All Artists and Makers who participate in our market are all locals -- who either live in or have close ties to the area.\n\nFor artist and maker inquires\, please contact Jan at creativehandmadegoods@gmail.com.
X-ALT-DESC;FMTTYPE=text/html:<div class="_2cuy _3dgx _2vxa">In its third year\, the annual Holiday Art and Artisan Market is moving downtown Fergus Falls to a larger location that will enable us to host even more makers. We are excited for this season's market and are looking forward to our opening day\, November 23\, 2019.</div>\n\n<div class="_2cuy _3dgx _2vxa">We are located at 125 West Lincoln Ave in Fergus Falls\, MN. All Artists and Makers who participate in our market are all locals -- who either live in or have close ties to the area.</div>\n\n<div class="_2cuy _3dgx _2vxa">For artist and maker inquires\, please contact Jan at creativehandmadegoods@gmail.com.</div>\n
LOCATION:
UID:e.314.55964
SEQUENCE:3
DTSTAMP:20260422T173046Z
URL:https://business.fergusfalls.com/events/details/holiday-art-artisan-market-12-14-2019-55964
END:VEVENT

END:VCALENDAR
