BEGIN:VCALENDAR
VERSION:2.0
PRODID:-//ChamberMaster//Event Calendar 2.0//EN
METHOD:PUBLISH
X-PUBLISHED-TTL:P3D
REFRESH-INTERVAL:P3D
CALSCALE:GREGORIAN
BEGIN:VEVENT
DTSTART;VALUE=DATE:20171124
DTEND;VALUE=DATE:20171125
TRANSP:TRANSPARENT
X-MICROSOFT-CDO-ALLDAYEVENT:TRUE
SUMMARY:Holiday Art & Artisan Market @ Dining Car #423
DESCRIPTION:Shop for local\, unique hand-crafted items at the Holiday Art & Artisan Market at Dining Car #423. Enjoy a craft beer or glass of wine while you shop.
X-ALT-DESC;FMTTYPE=text/html:Shop for local\, unique hand-crafted items at the Holiday Art &amp\; Artisan Market at Dining Car #423. Enjoy a craft beer or glass of wine while you shop.
LOCATION:Dining Car #423 (loading dock area of newly renovated NP Train Depot) next to Fergus Falls Public Library 423 S. Cascade St. Fergus Falls\, MN
UID:e.314.42838
SEQUENCE:3
DTSTAMP:20260424T074826Z
URL:https://business.fergusfalls.com/events/details/holiday-art-artisan-market-dining-car-423-42838
END:VEVENT

END:VCALENDAR
