BEGIN:VCALENDAR
VERSION:2.0
PRODID:-//ChamberMaster//Event Calendar 2.0//EN
METHOD:PUBLISH
X-PUBLISHED-TTL:P3D
REFRESH-INTERVAL:P3D
CALSCALE:GREGORIAN
BEGIN:VEVENT
DTSTART:20151210T220000Z
DTEND:20151211T010000Z
X-MICROSOFT-CDO-ALLDAYEVENT:FALSE
SUMMARY:Holiday Art Crawl
DESCRIPTION:Holiday Art Crawl\n\n\n\nKaddatz Gallery\, 4-7pm:\n\nKaddatz Lofts Open Studios\n\nJewelry\, Family Art Table\, Butterfly Effect screening\n\nPortrait Sessions with Scott Gunvaldson\n\nWine & Refreshments\n\n\n\nA Center for the Arts:\n\nLocal Artists\n\nCider & Cookies\n\nString Quartet\n\n\n\nLake Region Arts Council\, 4-7pm:\n\nSip & Paint with Art Bar 39 (registration required)\n\nLRAC Gallery Open\n\n\n\nThe Spot:\n\nArtists Reception\n\n\n\nSam Norman Studio\, 4-7pm:\n\n423 S Cascade\n\nWheel throwing demonstrations\n\n\n\nUnion Pizza and Brewing Co.\, 7pm:\n\nChristmas Carol Community Sing-Along
X-ALT-DESC;FMTTYPE=text/html:<span style="color: rgb(255\, 0\, 0)\;"><em><u><strong><span style="font-size: 20px\;">Holiday Art Crawl</span></strong></u></em></span><br />\n<br />\n<strong><span style="color: rgb(0\, 128\, 0)\;"><span style="font-size: 18px\;">Kaddatz Gallery\, 4-7pm:</span></span></strong><br />\nKaddatz Lofts Open Studios<br />\nJewelry\, Family Art Table\, Butterfly Effect screening<br />\nPortrait Sessions with Scott Gunvaldson<br />\nWine &amp\; Refreshments<br />\n<br />\n<span style="font-size: 18px\;"><span style="color: rgb(0\, 128\, 0)\;"><strong>A Center for the Arts:</strong></span></span><br />\nLocal Artists<br />\nCider &amp\; Cookies<br />\nString Quartet<br />\n<br />\n<span style="font-size: 18px\;"><strong><span style="color: rgb(0\, 128\, 0)\;">Lake Region Arts Council\, 4-7pm:</span></strong></span><br />\nSip &amp\; Paint with Art Bar 39 (registration required)<br />\nLRAC Gallery Open<br />\n<br />\n<span style="color: rgb(0\, 128\, 0)\;"><strong><span style="font-size: 18px\;">The Spot:</span></strong></span><br />\nArtists Reception<br />\n<br />\n<strong><span style="color: rgb(0\, 128\, 0)\;"><span style="font-size: 18px\;">Sam Norman Studio\, 4-7pm:</span></span></strong><br />\n423 S Cascade<br />\nWheel throwing demonstrations<br />\n<br />\n<strong><span style="color: rgb(0\, 128\, 0)\;"><span style="font-size: 18px\;">Union Pizza and Brewing Co.\, 7pm:</span></span></strong><br />\nChristmas Carol Community Sing-Along<br />\n&nbsp\;
LOCATION:
UID:e.314.27807
SEQUENCE:3
DTSTAMP:20260425T232702Z
URL:https://business.fergusfalls.com/events/details/holiday-art-crawl-12-10-2015-27807
END:VEVENT

END:VCALENDAR
