BEGIN:VCALENDAR
VERSION:2.0
PRODID:-//ChamberMaster//Event Calendar 2.0//EN
METHOD:PUBLISH
X-PUBLISHED-TTL:P3D
REFRESH-INTERVAL:P3D
CALSCALE:GREGORIAN
BEGIN:VEVENT
DTSTART:20171202T170000Z
DTEND:20171203T020000Z
X-MICROSOFT-CDO-ALLDAYEVENT:FALSE
SUMMARY:Holiday Art Crawl
DESCRIPTION:Downtown Fergus Falls will be a local shopper's dream on December 2 with the Holiday Art Crawl! Arts markets\, studio tours\, art demonstrations\, dance and musical performances\, a pop-up bar\, a tree lighting ceremony\, and a Beer & Carols sing-a-long will kick the 2017 holiday season off right. The Holiday Art Crawl will take place from 11 am to after 7 PM on December 2. Locations span from Cascade Street to Lincoln Avenue. The Kaddatz Galleries & artist lofts\, Springboard for the Arts\, A Center for the Arts\, Cascade Street Station\, Lake Region Arts Council\, The Spot\, City Hall\, Wright Park\, and Union Pizza & Brewing are among the locations that will host events. For a map & full list of activities\, visit: https://kaddatzgalleries.org/holiday-art-crawl/
X-ALT-DESC;FMTTYPE=text/html:Downtown Fergus Falls will be a local shopper&rsquo\;s dream on December 2 with the Holiday Art Crawl! Arts markets\, studio tours\, art demonstrations\, dance and musical performances\, a pop-up bar\, a tree lighting ceremony\, and a Beer &amp\; Carols sing-a-long will kick the 2017 holiday season off right. The Holiday Art Crawl will take place from 11 am to after 7 PM on December 2. Locations span from Cascade Street to Lincoln Avenue. The Kaddatz Galleries &amp\; artist lofts\, Springboard for the Arts\, A Center for the Arts\, Cascade Street Station\, Lake Region Arts Council\, The Spot\, City Hall\, Wright Park\, and Union Pizza &amp\; Brewing are among the locations that will host events. For a map &amp\; full list of activities\, visit: https://kaddatzgalleries.org/holiday-art-crawl/
LOCATION:Various locations in Fergus Falls
UID:e.314.43304
SEQUENCE:3
DTSTAMP:20260424T073143Z
URL:https://business.fergusfalls.com/events/details/holiday-art-crawl-43304
END:VEVENT

END:VCALENDAR
