BEGIN:VCALENDAR
VERSION:2.0
PRODID:-//ChamberMaster//Event Calendar 2.0//EN
METHOD:PUBLISH
X-PUBLISHED-TTL:P3D
REFRESH-INTERVAL:P3D
CALSCALE:GREGORIAN
BEGIN:VEVENT
DTSTART:20181201T180000Z
DTEND:20181201T230000Z
X-MICROSOFT-CDO-ALLDAYEVENT:FALSE
SUMMARY:Holiday Art Crawl
DESCRIPTION:Holiday Art Crawl
X-ALT-DESC;FMTTYPE=text/html:Holiday Art Crawl
LOCATION:Downtown Fergus Falls
UID:e.314.51710
SEQUENCE:3
DTSTAMP:20260423T133307Z
URL:https://business.fergusfalls.com/events/details/holiday-art-crawl-51710
END:VEVENT

END:VCALENDAR
