BEGIN:VCALENDAR
VERSION:2.0
PRODID:-//ChamberMaster//Event Calendar 2.0//EN
METHOD:PUBLISH
X-PUBLISHED-TTL:P3D
REFRESH-INTERVAL:P3D
CALSCALE:GREGORIAN
BEGIN:VEVENT
DTSTART:20171116T150000Z
DTEND:20171116T213000Z
X-MICROSOFT-CDO-ALLDAYEVENT:FALSE
SUMMARY:Holiday Bake Sale
DESCRIPTION:Fergus Falls Senior Center Holiday Bake Sale
X-ALT-DESC;FMTTYPE=text/html:Fergus Falls Senior Center Holiday Bake Sale
LOCATION:115 W. Lincoln Ave. Fergus Falls\, MN
UID:e.314.42898
SEQUENCE:3
DTSTAMP:20260424T073919Z
URL:https://business.fergusfalls.com/events/details/holiday-bake-sale-42898
END:VEVENT

END:VCALENDAR
