BEGIN:VCALENDAR
VERSION:2.0
PRODID:-//ChamberMaster//Event Calendar 2.0//EN
METHOD:PUBLISH
X-PUBLISHED-TTL:P3D
REFRESH-INTERVAL:P3D
CALSCALE:GREGORIAN
BEGIN:VEVENT
DTSTART:20161210T000000Z
DTEND:20161210T050000Z
X-MICROSOFT-CDO-ALLDAYEVENT:FALSE
SUMMARY:Holiday Dinner & Entertainment
DESCRIPTION:Join us for our Annual Holiday Dinner & Entertainment! This year we are featuring the Dueling Duo Piano group from South Dakota. Doors open at 6pm. Dinner is served at 7pm. Entertainment starts at 8pm. We will be serving:\n\n\n\nCANDIED BLACK OAK HAM\n\nTOSSED SALAD\n\nWARM DINNER ROLL\n\nSEASONED GREEN BEANS\n\nGARLIC HAND-MASHED POTATOES\n\nDOUBLE CHOCOLATE CAKE\n\n\n\nTickets are on sale now for $30 each. That includes the three-course meal\, piano show\, tax\, tip\, and a cash bar.\n\n\n\nTo purchase tickets\, please call us directly at 218-739-2211.\n\n\n\nCHRISTMAS IN JULY! IF YOU PURCHASE YOUR TICKETS BEFORE THE END OF AUGUST\, WE WILL THROW IN ONE FREE DRINK WITH EACH TICKET PURCHASED.
X-ALT-DESC;FMTTYPE=text/html:<span class="_4n-j fsl">Join us for our Annual Holiday Dinner &amp\; Entertainment! This year we are featuring the Dueling Duo Piano group from South Dakota. Doors open at 6pm. Dinner is served at 7pm. Entertainment starts at 8pm. We will be serving:<br />\n<br />\nCANDIED BLACK OAK HAM<br />\nTOSSED SALAD<br />\nWARM DINNER ROLL<br />\nSEASONED GREEN BEANS<br />\nGARLIC HAND-MASHED POTATOES<br />\nDOUBLE CHOCOLATE CAKE<br />\n<br />\nTickets are on sale now for $30 each. That includes the three-course meal\, piano show\, tax\, tip\, and a cash bar.<br />\n<br />\nTo purchase tickets\, please call us directly at 218-739-2211.<br />\n<br />\nCHRISTMAS IN JULY! IF YOU PURCHASE YOUR TICKETS BEFORE THE END OF AUGUST\, WE WILL THROW IN ONE FREE DRINK WITH EACH TICKET PURCHASED.</span>
LOCATION:
UID:e.314.35998
SEQUENCE:3
DTSTAMP:20260425T034621Z
URL:https://business.fergusfalls.com/events/details/holiday-dinner-entertainment-35998
END:VEVENT

END:VCALENDAR
